BEGIN:VCALENDAR
VERSION:2.0
PRODID:-//ChamberMaster//Event Calendar 2.0//EN
METHOD:PUBLISH
X-PUBLISHED-TTL:P3D
REFRESH-INTERVAL:P3D
CALSCALE:GREGORIAN
BEGIN:VEVENT
DTSTART:20160604T173000Z
DTEND:20160605T000000Z
X-MICROSOFT-CDO-ALLDAYEVENT:FALSE
SUMMARY:Wood & Glory
DESCRIPTION:SAVE THE DATE.
X-ALT-DESC;FMTTYPE=text/html:<p>SAVE THE DATE.</p> 
LOCATION:Konocti Vista Resort\, Casino and Marina\, Lakeport
UID:e.1531.3283
SEQUENCE:3
DTSTAMP:20260421T042536Z
URL:https://cmmembers.psaeger.com/events/details/wood-glory-06-04-2016-3283
END:VEVENT

END:VCALENDAR
