BEGIN:VCALENDAR
VERSION:2.0
PRODID:-//ChamberMaster//Event Calendar 2.0//EN
METHOD:PUBLISH
X-PUBLISHED-TTL:P3D
REFRESH-INTERVAL:P3D
CALSCALE:GREGORIAN
BEGIN:VEVENT
DTSTART:20160319T000000Z
DTEND:20160319T050000Z
X-MICROSOFT-CDO-ALLDAYEVENT:FALSE
SUMMARY:Winery of the Month: WILDHURST VINEYARDS
DESCRIPTION:Twin Pine Casino & Hotel     Featured Winery of the Month :  WILDHURST VINEYARDS  Date: March 18\, 2016  $2 Wine Tasting 5:00pm 7:pm  3 Course Wine Pairing Dinner  by Chef Tommy Garrett (price TBA)  Enjoy  art by local artist:  Linda Marshbanks  RSVP with Susan Conley 707-987-1257  for full menu go to www.twinpine.com
X-ALT-DESC;FMTTYPE=text/html:<h1 align="center"><span style="color:#800000\;"><strong>Twin Pine Casino &amp\; Hotel</strong></span></h1>  <p align="center"><font color="#0000cd">&nbsp\;</font></p>  <p align="center">Featured Winery of the Month :&nbsp\;<strong> WILDHURST VINEYARDS</strong></p>  <p align="center">Date: March 18\, 2016</p>  <p align="center">$2 Wine Tasting 5:00pm&ndash\;7:pm</p>  <p align="center">3 Course Wine Pairing Dinner&nbsp\; by Chef Tommy Garrett (price TBA)</p>  <p align="center">Enjoy &nbsp\;art by local artist: &nbsp\;Linda Marshbanks</p>  <p align="center">RSVP with Susan Conley 707-987-1257</p>  <p align="center">for full menu go to <span style="color:#008080\;"><u>www.twinpine.com</u></span></p> 
LOCATION:Twin Pine Casino & Hotel
UID:e.1531.3477
SEQUENCE:3
DTSTAMP:20260421T102632Z
URL:https://cmmembers.psaeger.com/events/details/winery-of-the-month-wildhurst-vineyards-03-18-2016-3477
END:VEVENT

END:VCALENDAR
