BEGIN:VCALENDAR
VERSION:2.0
PRODID:-//ChamberMaster//Event Calendar 2.0//EN
METHOD:PUBLISH
X-PUBLISHED-TTL:P3D
REFRESH-INTERVAL:P3D
CALSCALE:GREGORIAN
BEGIN:VEVENT
DTSTART:20160228T031500Z
DTEND:20160228T060000Z
X-MICROSOFT-CDO-ALLDAYEVENT:FALSE
SUMMARY:Window to the Universe - Taylor Observatory
DESCRIPTION:Taylor Observatory is honored to have Prof. Philip Scherrer of Stanford University speak on "The Sun Inside and Out" at the February Window to the Universe event.   Prof. Scherrer has desinged instrumention for the NASA Orbiting Solar Dynamics  Observatory.  His world-renowned research program gives him a unique perspective on scientific studies involving the sun\, both from satellite and earty-based observations.  Sponsored by the Friends of Taylor\, the event includes the presentation\, a planetarium show\, and telescope viewing\, weather permitting.  Admission is $5.00 for adults and $3.00 for children 12 and under.   The evening at Taylor begins with a planetarium show at 7:15\, followed by the lecture at 8:00 pm and a second planetarium show around 9:00.  Telescope viewing will begin after the talk\, weather permitting . With the waxing moon still below the horizon at show-time\, observations through the Taylor's telescopes should be good\, with Jupiter just coming into view in the east\, and a number of nebula and galaxies visible in the dark Lake County skies.  Taylor Observatory is at the end of Oak Hills Lane in Kelseyville.  For further information\, contact Bill Haddon\, Friends of Taylor Observatory\, at 415 209 3084.
X-ALT-DESC;FMTTYPE=text/html:<p>Taylor Observatory is honored to have <span style="color:#0000CD\;"><strong><span style="font-size: 16px\;">Prof. Philip Scherrer of Stanford University </span></strong></span><span style="font-size:12px\;">speak on </span><span style="color:#0000CD\;"><strong><span style="font-size: 16px\;">&quot\;The Sun Inside and Out&quot\;</span></strong></span><span style="color:#006400\;"><strong><span style="font-size: 16px\;"> </span></strong></span>at the February Window to the Universe event. &nbsp\;&nbsp\;Prof. Scherrer has desinged instrumention&nbsp\;for the NASA Orbiting Solar Dynamics&nbsp\;&nbsp\;Observatory. &nbsp\;His world-renowned research program&nbsp\;gives him a unique perspective on scientific studies involving the sun\, both from satellite and earty-based observations.</p>  <p>Sponsored by the Friends of Taylor\, the event includes the presentation\, a planetarium show\, and telescope viewing\, weather permitting. &nbsp\;Admission is $5.00 for adults and $3.00 for children 12 and under.&nbsp\;</p>  <p>The evening at Taylor begins with a planetarium show at 7:15\, followed by the lecture at 8:00 pm and a second planetarium show around 9:00.&nbsp\; Telescope viewing will begin after the talk\, weather permitting . With the waxing moon still below the horizon at show-time\, observations through the Taylor&rsquo\;s telescopes should be good\, with Jupiter just coming into view in the east\, and a number of nebula and galaxies visible in the dark Lake County skies.</p>  <p>Taylor Observatory is at the end of Oak Hills Lane in Kelseyville. &nbsp\;For further information\, contact Bill Haddon\, Friends of Taylor Observatory\, at 415 209 3084.</p> 
LOCATION:Taylor Observatory\, Oak Hills Lane\, Kelseyville CA
UID:e.1531.3356
SEQUENCE:3
DTSTAMP:20260421T115316Z
URL:https://cmmembers.psaeger.com/events/details/window-to-the-universe-taylor-observatory-02-27-2016-3356
END:VEVENT

END:VCALENDAR
