BEGIN:VCALENDAR
VERSION:2.0
PRODID:-//ChamberMaster//Event Calendar 2.0//EN
METHOD:PUBLISH
X-PUBLISHED-TTL:P3D
REFRESH-INTERVAL:P3D
CALSCALE:GREGORIAN
BEGIN:VEVENT
DTSTART:20160604T150000Z
DTEND:20160604T230000Z
X-MICROSOFT-CDO-ALLDAYEVENT:FALSE
SUMMARY:Wild West Day
DESCRIPTION:SAVE THE DATE.
X-ALT-DESC;FMTTYPE=text/html:<p>SAVE THE DATE.</p> 
LOCATION:Main Street\, Upper Lake
UID:e.1531.3284
SEQUENCE:3
DTSTAMP:20260421T055509Z
URL:https://cmmembers.psaeger.com/events/details/wild-west-day-06-04-2016-3284
END:VEVENT

END:VCALENDAR
