BEGIN:VCALENDAR
VERSION:2.0
PRODID:-//ChamberMaster//Event Calendar 2.0//EN
METHOD:PUBLISH
X-PUBLISHED-TTL:P3D
REFRESH-INTERVAL:P3D
CALSCALE:GREGORIAN
BEGIN:VEVENT
DTSTART:20150803T110000Z
DTEND:20150803T160000Z
X-MICROSOFT-CDO-ALLDAYEVENT:FALSE
SUMMARY:Weekly Breakfast
DESCRIPTION:Start your week off with a fresh breakfast courtesy of the VFW. Socialize and network with your fellow chamber members.
X-ALT-DESC;FMTTYPE=text/html:Start your week off with a fresh breakfast courtesy of the VFW. Socialize and network with your fellow chamber members.
LOCATION:VFW
UID:e.1531.173
SEQUENCE:3
DTSTAMP:20260421T201937Z
URL:https://cmmembers.psaeger.com/events/details/weekly-breakfast-08-03-2015-173
END:VEVENT

END:VCALENDAR
