BEGIN:VCALENDAR
VERSION:2.0
PRODID:-//ChamberMaster//Event Calendar 2.0//EN
METHOD:PUBLISH
X-PUBLISHED-TTL:P3D
REFRESH-INTERVAL:P3D
CALSCALE:GREGORIAN
BEGIN:VEVENT
DTSTART:20161204T020000Z
DTEND:20161204T040000Z
X-MICROSOFT-CDO-ALLDAYEVENT:FALSE
SUMMARY:Upper Lake Holiday Parade
DESCRIPTION:SAVE THE DATE
X-ALT-DESC;FMTTYPE=text/html:<p>SAVE THE DATE</p> 
LOCATION:Main Street\, Upper Lake
UID:e.1531.3339
SEQUENCE:3
DTSTAMP:20260420T200221Z
URL:https://cmmembers.psaeger.com/events/details/upper-lake-holiday-parade-12-03-2016-3339
END:VEVENT

END:VCALENDAR
