BEGIN:VCALENDAR
VERSION:2.0
PRODID:-//ChamberMaster//Event Calendar 2.0//EN
METHOD:PUBLISH
X-PUBLISHED-TTL:P3D
REFRESH-INTERVAL:P3D
CALSCALE:GREGORIAN
BEGIN:VEVENT
DTSTART:20160608T010000Z
DTEND:20160608T030000Z
X-MICROSOFT-CDO-ALLDAYEVENT:FALSE
SUMMARY:UnCorked at Blue Wing $20 Tuesday
DESCRIPTION:Live music is a great compliment to our weekly $20 Tuesdays fixed price three course offered in additional to our regular menu. Led by Don Coffin\, Uncorked is a wonderful group playing a combination of Celtic and bluegrass favorites.
X-ALT-DESC;FMTTYPE=text/html:<p>Live music is a great compliment to our weekly $20 Tuesdays fixed price three course offered in additional to our regular menu. Led by Don Coffin\, Uncorked is a wonderful group playing a combination of Celtic and bluegrass favorites.</p> 
LOCATION:Blue Wing Restaurant
UID:e.1531.3416
SEQUENCE:3
DTSTAMP:20260421T042832Z
URL:https://cmmembers.psaeger.com/events/details/uncorked-at-blue-wing-20-tuesday-06-07-2016-3416
END:VEVENT

END:VCALENDAR
