BEGIN:VCALENDAR
VERSION:2.0
PRODID:-//ChamberMaster//Event Calendar 2.0//EN
METHOD:PUBLISH
X-PUBLISHED-TTL:P3D
REFRESH-INTERVAL:P3D
CALSCALE:GREGORIAN
BEGIN:VEVENT
DTSTART:20160312T170000Z
DTEND:20160312T203000Z
X-MICROSOFT-CDO-ALLDAYEVENT:FALSE
SUMMARY:Tour the Silver Spur Ranch Property
DESCRIPTION:Tour the Silver Spur Ranch Property with Andrew Fulks   Saturday\, March 12\, 2016 - 9:00 AM     Meet at the Walker Ridge Road Stagging Area  23474 CA-20\, Clearlake Oaks\, CA (map)  Donation:  $25.00 /(optional)  Register here: http://www.meetup.com/Tuleyome-Home-Place-Adventures/events/226500949/     March 12 - Silver Spur Ranch.  5 to 8 mile hike in a private ranch west of Walker Ridge\, near Indian Valley Reservoir.    Tuleyome is working to buy the 1\,280-acre ranch\, located within the Berryessa Snow Mountain National Monument\, for wildlife conservation and public recreation.  Come get a sneak preview of the beautiful new property!    Meet at the intersection of Highway 20 and Walker Ridge Road\, at 9am.  We will then caravan to the ranch gate located off of the road to Indian Valley Reservoir.  Andrew Fulks is the Board President of Tuleyome.
X-ALT-DESC;FMTTYPE=text/html:<h1 itemprop="name" style="text-align: center\;"><span style="font-size:20px\;"><span style="color: rgb(165\, 42\, 42)\;">Tour the Silver Spur Ranch Property with Andrew Fulks</span></span></h1>  <div class="clearfix figureset-description" id="event-when-display"> <p style="text-align: center\;"><span style="font-size:18px\;"><time datetime="2016-03-12T09:00:00-08:00" itemprop="startDate">Saturday\, March 12\, 2016 - 9:00 AM</time></span></p>  <p>&nbsp\;</p>  <p><span style="font-size:14px\;">Meet at the <a href="https://www.google.com/maps/place/23474+State+Hwy+20\,+Clearlake+Oaks\,+CA+95423/@39.0077848\,-122.4918697\,17z/data=!3m1!4b1!4m2!3m1!1s0x808386f66c87879d:0x9b21ced6bedb39c2?hl=en">Walker Ridge Road Stagging Area</a></span></p>  <p><span style="font-size:14px\;">23474 CA-20\, Clearlake Oaks\, CA (<a href="https://www.google.com/maps/place/23474+State+Hwy+20\,+Clearlake+Oaks\,+CA+95423/@39.0077848\,-122.4918697\,17z/data=!3m1!4b1!4m2!3m1!1s0x808386f66c87879d:0x9b21ced6bedb39c2?hl=en">map</a>)</span></p>  <p><span style="font-size:14px\;"><span class="label">Donation: </span> $25.00 <span class="small-info">/(optional)</span></span></p>  <p><span style="font-size:14px\;"><span class="small-info"><span style="font-size:18px\;">Register <a href="http://www.meetup.com/Tuleyome-Home-Place-Adventures/events/226500949/">here</a></span>: </span></span><a href="http://www.meetup.com/Tuleyome-Home-Place-Adventures/events/226500949/">http://www.meetup.com/Tuleyome-Home-Place-Adventures/events/226500949/</a></p>  <p>&nbsp\;</p>  <p><span style="font-size:14px\;">March 12 - Silver Spur Ranch. &nbsp\;5 to 8 mile hike in a private ranch west of Walker Ridge\, near Indian Valley Reservoir. &nbsp\;</span></p>  <p><span style="font-size:14px\;">Tuleyome is working to buy the 1\,280-acre ranch\, located within the Berryessa Snow Mountain National Monument\, for wildlife conservation and public recreation. &nbsp\;Come get a sneak preview of the beautiful new property! &nbsp\;</span></p>  <p><span style="font-size:14px\;">Meet at the intersection of Highway 20 and Walker Ridge Road\, at&nbsp\;9am. &nbsp\;We will then caravan to the ranch gate located off of the road to Indian Valley Reservoir.</span></p>  <p><span style="font-size:14px\;">Andrew Fulks is the Board President of Tuleyome.</span></p> </div> 
LOCATION:23474 CA-20\, Clearlake Oaks\, CA
UID:e.1531.3359
SEQUENCE:3
DTSTAMP:20260421T090202Z
URL:https://cmmembers.psaeger.com/events/details/tour-the-silver-spur-ranch-property-03-12-2016-3359
END:VEVENT

END:VCALENDAR
