BEGIN:VCALENDAR
VERSION:2.0
PRODID:-//ChamberMaster//Event Calendar 2.0//EN
METHOD:PUBLISH
X-PUBLISHED-TTL:P3D
REFRESH-INTERVAL:P3D
CALSCALE:GREGORIAN
BEGIN:VEVENT
DTSTART;VALUE=DATE:20151008
DTEND;VALUE=DATE:20151009
TRANSP:TRANSPARENT
X-MICROSOFT-CDO-ALLDAYEVENT:TRUE
SUMMARY:The 23rd is our favorite day of the month!
DESCRIPTION:description
X-ALT-DESC;FMTTYPE=text/html:<p>description</p>\n
LOCATION:description
UID:e.1531.418
SEQUENCE:3
DTSTAMP:20260421T182203Z
URL:https://cmmembers.psaeger.com/events/details/the-23rd-is-our-favorite-day-of-the-month-10-08-2015-418
END:VEVENT

END:VCALENDAR
