BEGIN:VCALENDAR
VERSION:2.0
PRODID:-//ChamberMaster//Event Calendar 2.0//EN
METHOD:PUBLISH
X-PUBLISHED-TTL:P3D
REFRESH-INTERVAL:P3D
CALSCALE:GREGORIAN
BEGIN:VEVENT
DTSTART:20160917T020000Z
DTEND:20160917T050000Z
X-MICROSOFT-CDO-ALLDAYEVENT:FALSE
SUMMARY:Take 4 Jazz Quartet
DESCRIPTION:Four well-known local musicians take the stage at the Soper Reese Theatre on Friday\, September 18\, at 7:00 pm\, as part of the theatre's Third Friday Live series.  Tickets are $15.  Dance floor open.   The Take 4 Jazz Quartet is made up of Matt Cameron on guitar\, Dan Williamson on drums\, Tom Ganoung on piano/keyboard and Larry Puterbaugh on bass.  Cameron\, Williamson and Ganoung teach music at the Ukiah School of Music and Puterbaugh teaches music in the Ukiah Unified School District.  The group will perform its own jazz arrangements of popular music from Antonio Carlos Jobim\, Dave Brubeck\, Paul Desmond\, Charles Mingus\, Paul McCartney\, Van Morrison\, Herbie Hancock and Michael Bubl .   The Soper Reese Theatre is at 275 S. Main St.\, Lakeport.  Tickets are available online at SoperReeseTheatre.com\; at the Theatre Box Office\, 275 S. Main St.\, Lakeport on Fridays 10:30 am to 5:30 pm\; or at The Travel Center\, 1265 S. Main\, Lakeport\, Monday-Friday 9:00 am to 5:00 pm.  For more information call 707-263-0577.
X-ALT-DESC;FMTTYPE=text/html:<p>Four well-known local musicians take the stage at the Soper Reese Theatre on Friday\, September 18\, at 7:00 pm\, as part of the theatre&rsquo\;s Third Friday Live series.&nbsp\; Tickets are $15.&nbsp\; Dance floor open.&nbsp\;</p>  <p>The Take 4 Jazz Quartet is made up of Matt Cameron on guitar\, Dan Williamson on drums\, Tom Ganoung on piano/keyboard and Larry Puterbaugh on bass.&nbsp\; Cameron\, Williamson and Ganoung teach music at the Ukiah School of Music and Puterbaugh teaches music in the Ukiah Unified School District.</p>  <p>The group will perform its own jazz arrangements of popular music from Antonio Carlos Jobim\, Dave Brubeck\, Paul Desmond\, Charles Mingus\, Paul McCartney\, Van Morrison\, Herbie Hancock and Michael Bubl&eacute\;.&nbsp\;</p>  <p>The Soper Reese Theatre is at 275 S. Main St.\, Lakeport.&nbsp\; Tickets are available online at SoperReeseTheatre.com\; at the Theatre Box Office\, 275 S. Main St.\, Lakeport on Fridays 10:30 am to 5:30 pm\; or at The Travel Center\, 1265 S. Main\, Lakeport\, Monday-Friday 9:00 am to 5:00 pm.&nbsp\; For more information call 707-263-0577.</p> 
LOCATION:Soper Reese Theatre\, 275 S. Main St.\, Lakeport
UID:e.1531.3324
SEQUENCE:3
DTSTAMP:20260421T004757Z
URL:https://cmmembers.psaeger.com/events/details/take-4-jazz-quartet-09-16-2016-3324
END:VEVENT

END:VCALENDAR
