BEGIN:VCALENDAR
VERSION:2.0
PRODID:-//ChamberMaster//Event Calendar 2.0//EN
METHOD:PUBLISH
X-PUBLISHED-TTL:P3D
REFRESH-INTERVAL:P3D
CALSCALE:GREGORIAN
BEGIN:VEVENT
DTSTART:20161113T010000Z
DTEND:20161113T040000Z
X-MICROSOFT-CDO-ALLDAYEVENT:FALSE
SUMMARY:Stars of Lake County Community Awards
DESCRIPTION:SAVE THE DATE
X-ALT-DESC;FMTTYPE=text/html:<p>SAVE THE DATE</p> 
LOCATION:Soper-Reese Community Theatre
UID:e.1531.3337
SEQUENCE:3
DTSTAMP:20260420T200252Z
URL:https://cmmembers.psaeger.com/events/details/stars-of-lake-county-community-awards-11-12-2016-3337
END:VEVENT

END:VCALENDAR
