BEGIN:VCALENDAR
VERSION:2.0
PRODID:-//ChamberMaster//Event Calendar 2.0//EN
METHOD:PUBLISH
X-PUBLISHED-TTL:P3D
REFRESH-INTERVAL:P3D
CALSCALE:GREGORIAN
BEGIN:VEVENT
DTSTART:20160313T000000Z
DTEND:20160312T080000Z
X-MICROSOFT-CDO-ALLDAYEVENT:FALSE
SUMMARY:St. Patricks Parade
DESCRIPTION:Register Now To Participate.  263-8843.  Open "Free" to Children 5-12 yrs. Teens 13-17 yrs. Pet Parade (Dress you pet in green). Clubs & Groups. Artist\, Performers\, Bikes\, Trikes\, Singers & Dancers.  Only 1 Rule to enter (Must wear GREEN)  Business Entry $30.00 gets your name on T-Shirts and on Posters.                            Deadline to enter March 7th
X-ALT-DESC;FMTTYPE=text/html:<p>Register Now To Participate.&nbsp\; 263-8843.&nbsp\; Open &quot\;Free&quot\; to Children 5-12 yrs. Teens 13-17 yrs. Pet Parade (Dress you pet in green). Clubs &amp\; Groups. Artist\, Performers\, Bikes\, Trikes\, Singers &amp\; Dancers.&nbsp\; Only 1 Rule to enter (Must wear GREEN)&nbsp\; Business Entry $30.00 gets your name on T-Shirts and on Posters.&nbsp\;&nbsp\;&nbsp\;&nbsp\;&nbsp\;&nbsp\;&nbsp\;&nbsp\;&nbsp\;&nbsp\;&nbsp\;&nbsp\;&nbsp\;&nbsp\;&nbsp\;&nbsp\;&nbsp\;&nbsp\;&nbsp\;&nbsp\;&nbsp\;&nbsp\;&nbsp\;&nbsp\;&nbsp\;&nbsp\;&nbsp\; Deadline to enter March 7th</p> 
LOCATION:Main Street\, Lakeport
UID:e.1531.3350
SEQUENCE:3
DTSTAMP:20260421T101911Z
URL:https://cmmembers.psaeger.com/events/details/st-patricks-parade-03-12-2016-3350
END:VEVENT

END:VCALENDAR
