BEGIN:VCALENDAR
VERSION:2.0
PRODID:-//ChamberMaster//Event Calendar 2.0//EN
METHOD:PUBLISH
X-PUBLISHED-TTL:P3D
REFRESH-INTERVAL:P3D
CALSCALE:GREGORIAN
BEGIN:VEVENT
DTSTART:20160705T013000Z
DTEND:20160705T040000Z
X-MICROSOFT-CDO-ALLDAYEVENT:FALSE
SUMMARY:Siegel Friends at Blue Wing July 4 Blues
DESCRIPTION:Local\, Bay Area and touring blues bands perform at the Blue Wing at dinner time each Monday evening. It's great food in a lively and danceable atmosphere. There's no cover but reservations are suggested\, either inside or out on our heated veranda. Tonight is something special though\, as we move the music out on the hotel veranda and load up the garden with diners.  Great music will be provided by WILL SIEGEL AND FRIENDS.  Enjoy the music and then head over to Lakeport for the fireworks.
X-ALT-DESC;FMTTYPE=text/html:<p>Local\, Bay Area and touring blues bands perform at the Blue Wing at dinner time each Monday evening. It&#39\;s great food in a lively and danceable atmosphere. There&#39\;s no cover but reservations are suggested\, either inside or out on our heated veranda. Tonight is something special though\, as we move the music out on the hotel veranda and load up the garden with diners.&nbsp\; Great music will be provided by WILL SIEGEL AND FRIENDS.&nbsp\; Enjoy the music and then head over to Lakeport for the fireworks.</p> 
LOCATION:Blue Wing Restaurant
UID:e.1531.3430
SEQUENCE:3
DTSTAMP:20260421T024021Z
URL:https://cmmembers.psaeger.com/events/details/siegel-friends-at-blue-wing-july-4-blues-07-04-2016-3430
END:VEVENT

END:VCALENDAR
