BEGIN:VCALENDAR
VERSION:2.0
PRODID:-//ChamberMaster//Event Calendar 2.0//EN
METHOD:PUBLISH
X-PUBLISHED-TTL:P3D
REFRESH-INTERVAL:P3D
CALSCALE:GREGORIAN
BEGIN:VEVENT
DTSTART:20161015T170000Z
DTEND:20161016T000000Z
X-MICROSOFT-CDO-ALLDAYEVENT:FALSE
SUMMARY:Shipwreck Day
DESCRIPTION:The fifth annual Shipwreck Day sets sail at Library Park and Museum Park in Lakeport starting at 10:00 AM on October 15\, 2016. Pirate grub\, garb and activities for all ages will be featured. Pirate swag of  all varities from the seven seas will be offered for sale as well as local craft items. Come in costume as your favorite swashbuckler and win a prize. For more information contact: Suzanne Lyons at (707)262-1967 and visit our website at secondtimearond1855.com (click on pirate event).
X-ALT-DESC;FMTTYPE=text/html:<p>The fifth annual Shipwreck Day sets sail at Library Park and Museum Park in Lakeport starting at 10:00 AM on October 15\, 2016. Pirate grub\, garb and activities for all ages will be featured. Pirate swag of&nbsp\; all varities from the seven seas will be offered for sale as well as local craft items. Come in costume as your favorite swashbuckler and win a prize. For more information contact: Suzanne Lyons at (707)262-1967 and visit our website at secondtimearond1855.com (click on pirate event).</p> 
LOCATION:Library Park & Museum Park Lakeport
UID:e.1531.3346
SEQUENCE:3
DTSTAMP:20260420T230355Z
URL:https://cmmembers.psaeger.com/events/details/shipwreck-day-10-15-2016-3346
END:VEVENT

END:VCALENDAR
