BEGIN:VCALENDAR
VERSION:2.0
PRODID:-//ChamberMaster//Event Calendar 2.0//EN
METHOD:PUBLISH
X-PUBLISHED-TTL:P3D
REFRESH-INTERVAL:P3D
CALSCALE:GREGORIAN
BEGIN:VEVENT
DTSTART:20160622T010000Z
DTEND:20160622T030000Z
X-MICROSOFT-CDO-ALLDAYEVENT:FALSE
SUMMARY:Sheridan Malone at Blue Wing $20 Tuesday
DESCRIPTION:Live music is a great compliment to our weekly $20 Tuesdays fixed price three course offered in additional to our regular menu. Everyone enjoys Sheridan Malone\, a gifted guitarist\, vocalist and entertainer.
X-ALT-DESC;FMTTYPE=text/html:<h4 class="ui-sch-view">Live music is a great compliment to our weekly $20 Tuesdays fixed price three course offered in additional to our regular menu. Everyone enjoys Sheridan Malone\, a gifted guitarist\, vocalist and entertainer.</h4> 
LOCATION:Blue Wing Restaurant
UID:e.1531.3425
SEQUENCE:3
DTSTAMP:20260421T043007Z
URL:https://cmmembers.psaeger.com/events/details/sheridan-malone-at-blue-wing-20-tuesday-06-21-2016-3425
END:VEVENT

END:VCALENDAR
