BEGIN:VCALENDAR
VERSION:2.0
PRODID:-//ChamberMaster//Event Calendar 2.0//EN
METHOD:PUBLISH
X-PUBLISHED-TTL:P3D
REFRESH-INTERVAL:P3D
CALSCALE:GREGORIAN
BEGIN:VEVENT
DTSTART:20160312T200000Z
DTEND:20160313T010000Z
X-MICROSOFT-CDO-ALLDAYEVENT:FALSE
SUMMARY:Scout Carnival
DESCRIPTION:The Scouts of Lake County have created a carnival of crazy games and great food.    Join us for Fishing\, a Cake Walk\, and Car Bashing\, or try the Toilet Bowl Toss and the Rubber Chicken Fling!  Door prizes include a Used Car from Guy Strohmeier's Auto Center\, a recliner from Allen's Furniture\, Photo Art by Lyle & Deanna Madeson \, a Steel Rolling Ball Sculpture by Matt Gaulden\, or 25 other door prizes.  Admission is free. "Script" (activity) tickets are 5 for $1.00 - Pre-sale tickets are $1.00 and include a $2.00 off coupon at most Lake County Pizza Parlors. Where else can you get such a deal\, have fun with your family\, and support your local Scouts at the same time! For more information or a Scout Pack or Troop near you call 279-2129 or jruggles@mchsi.com
X-ALT-DESC;FMTTYPE=text/html:<p><strong><span style="font-size:14px\;">The Scouts of Lake County have created a carnival of crazy games and great food. &nbsp\;</span></strong></p>  <p>Join us for Fishing\, a Cake Walk\, and Car Bashing\, or try the Toilet Bowl Toss and the Rubber Chicken Fling!</p>  <p>Door prizes include a Used Car from Guy Strohmeier&#39\;s Auto Center\, a recliner from Allen&#39\;s Furniture\, Photo Art by Lyle &amp\; Deanna Madeson \, a Steel Rolling Ball Sculpture by Matt Gaulden\, or 25 other door prizes.</p>  <p>Admission is free. &quot\;Script&quot\; (activity) tickets are 5 for $1.00 - Pre-sale tickets are $1.00 and include a $2.00 off coupon at most Lake County Pizza Parlors. Where else can you get such a deal\, have fun with your family\, and support your local Scouts at the same time! For more information or a Scout Pack or Troop&nbsp\;near you call 279-2129 or <a href="mailto:jruggles@mchsi.com">jruggles@mchsi.com</a></p> 
LOCATION:Lake County Fairgrounds - Lewis Hall
UID:e.1531.3366
SEQUENCE:3
DTSTAMP:20260421T085546Z
URL:https://cmmembers.psaeger.com/events/details/scout-carnival-03-12-2016-3366
END:VEVENT

END:VCALENDAR
