BEGIN:VCALENDAR
VERSION:2.0
PRODID:-//ChamberMaster//Event Calendar 2.0//EN
METHOD:PUBLISH
X-PUBLISHED-TTL:P3D
REFRESH-INTERVAL:P3D
CALSCALE:GREGORIAN
BEGIN:VEVENT
DTSTART:20160217T210000Z
DTEND:20160218T000000Z
X-MICROSOFT-CDO-ALLDAYEVENT:FALSE
SUMMARY:SCORE Workshop - Professional Email Marketing
DESCRIPTION:SCORE Presents Free Business Education Classes  Professional Branded Email Marketing  Presented By: LynAnn King     Covers email marketing strategies\, tactics\, tools for creating graphics and tips to up your branded visibility\, position you as professional.     Staying visible to your customers and prospects has become even more important when it comes to brand recognition and loyalty.  When you have the right marketing tools\, it can be fun and efficient.  Join us for an insightful marketing seminar and go home with clear "next steps" to accelerate your business and generate more revenue and success\, with email marketing.  Instructor mini-bio:  LynAnn King partners with successful small businesses and empowers entrepreneurs to deliver compelling marketing communications\, special events promotions and media campaigns. She brings her visionary leadership in rolling out creative marketing campaigns that create visibility and media coverage. Her clients partner with KingSings PR as their marketing and publicity expert.  Register here or contact the Chamber of Commerce at 707-263-5092  Next class in series: March 16\, 2016   Business Basics   Richard Adler
X-ALT-DESC;FMTTYPE=text/html:<p style="text-align: center\;"><span style="font-size:14px\;"><strong>SCORE Presents Free Business Education Classes</strong></span></p>  <p style="text-align: center\;"><span style="color:#339900\;"><span style="font-size: 18px\;"><strong>Professional Branded Email Marketing</strong></span></span></p>  <p style="text-align: center\;"><strong>Presented By: LynAnn King</strong></p>  <p>&nbsp\;</p>  <p>Covers email marketing strategies\, tactics\, tools for creating graphics and tips to up your branded visibility\, position you as professional.</p>  <p>&nbsp\;</p>  <p>Staying visible to your customers and prospects has become even more important when it comes to brand recognition and loyalty. &nbsp\;When you have the right marketing tools\, it can be fun and efficient.</p>  <p>Join us for an insightful marketing seminar and go home with clear &quot\;next steps&quot\; to accelerate your business and generate more revenue and success\, with email marketing.</p>  <p><strong><span style="text-decoration: underline\;" title="">Instructor mini-bio</span></strong>:</p>  <p style="margin-left: 40px\;"><strong>LynAnn King</strong> partners with successful small businesses and empowers entrepreneurs to deliver compelling marketing communications\, special events promotions and media campaigns. She brings her visionary leadership in rolling out creative marketing campaigns that create visibility and media coverage. Her clients partner with KingSings PR as their marketing and publicity expert.</p>  <p><strong><span style="font-size:20px\;"><a href="http://events.constantcontact.com/register/event?llr=srqw8yjab&amp\;oeidk=a07ec65iqax37867e6f"><span style="color:#3366ff\;">Register here</span></a></span></strong> or contact the Chamber of Commerce at 707-263-5092</p>  <p>Next class in series: <a href="http://www2.lakecochamber.com/calendar/w/id/19739/event-details.asp"><strong>March 16\, 2016 &ndash\; Business Basics &ndash\; Richard Adler</strong></a></p> 
LOCATION:Lakeport City Hall
UID:e.1531.3187
SEQUENCE:3
DTSTAMP:20260421T115130Z
URL:https://cmmembers.psaeger.com/events/details/score-workshop-professional-email-marketing-02-17-2016-3187
END:VEVENT

END:VCALENDAR
