BEGIN:VCALENDAR
VERSION:2.0
PRODID:-//ChamberMaster//Event Calendar 2.0//EN
METHOD:PUBLISH
X-PUBLISHED-TTL:P3D
REFRESH-INTERVAL:P3D
CALSCALE:GREGORIAN
BEGIN:VEVENT
DTSTART:20160720T200000Z
DTEND:20160720T230000Z
X-MICROSOFT-CDO-ALLDAYEVENT:FALSE
SUMMARY:SCORE Presents Free Financial Statements Workshop
DESCRIPTION:SCORE Presents Free Business Education Classes  Financial Statements  Presented By: Phil Husby     Learn how to assess financial risks and rewards\, true start-up costs\, ongoing operating expenses.  Set benchmarks for tracking progress and the organization of all your financial information.     This workshop will cover:   	The Profit & Loss Statement 	The Balance Sheet 	The Cash Flow Statement   It will explain in non-technical language\, how to create and maintain these.  It will show what the most important elements are and how to use them to keep track of your business performance.  You willl learn ha a funding institution may look at these documents to make investing or loan decisions.  Instructor mini-bio:  Phil Husby has over 40 years of professional experience providing financing\, accounting and tax services to technology companies.  From 1968 to 1987 Mr. Husby was audit partner with KPMG.  He has held Chief Financial Officer positions at many public and private companies\, and has extensive international business experience.  Register here or contact the Chamber of Commerce at 707-263-5092
X-ALT-DESC;FMTTYPE=text/html:<p style="text-align: center\;"><span style="font-size:14px\;"><strong>SCORE Presents Free Business Education Classes</strong></span></p>  <p style="text-align: center\;"><span style="color:#339900\;"><span style="font-size: 18px\;"><strong>Financial Statements</strong></span></span></p>  <p style="text-align: center\;"><strong>Presented By: Phil Husby</strong></p>  <p>&nbsp\;</p>  <p>Learn how to assess financial risks and rewards\, true start-up costs\, ongoing operating expenses. &nbsp\;Set benchmarks for tracking progress and the organization of all your financial information.</p>  <p>&nbsp\;</p>  <p>This workshop will cover:</p>  <ul> 	<li>The Profit &amp\; Loss Statement</li> 	<li>The Balance Sheet</li> 	<li>The Cash Flow Statement</li> </ul>  <p>It will explain in non-technical language\, how to create and maintain these. &nbsp\;It will show what the most important elements are and how to use them to keep track of your business performance. &nbsp\;You willl learn ha a funding institution may look at these documents to make investing or loan decisions.</p>  <p><strong><span style="text-decoration: underline\;" title="">Instructor mini-bio</span></strong>:</p>  <p style="margin-left: 40px\;"><strong>Phil Husby</strong> has over 40 years of professional experience providing financing\, accounting and tax services to technology companies.&nbsp\; From 1968 to 1987 Mr. Husby was audit partner with KPMG.&nbsp\; He has held Chief Financial Officer positions at many public and private companies\, and has extensive international business experience.</p>  <p><span style="font-size:20px\;"><a href="http://events.r20.constantcontact.com/register/event?llr=srqw8yjab&amp\;oeidk=a07eca60vku5aae765c&amp\;condition=SO_OVERRIDE"><span style="color:#0099ff\;">Register here</span></a></span> or contact the Chamber of Commerce at 707-263-5092</p> 
LOCATION:Lakeport City Hall
UID:e.1531.3312
SEQUENCE:3
DTSTAMP:20260421T024015Z
URL:https://cmmembers.psaeger.com/events/details/score-presents-free-financial-statements-workshop-07-20-2016-3312
END:VEVENT

END:VCALENDAR
