BEGIN:VCALENDAR
VERSION:2.0
PRODID:-//ChamberMaster//Event Calendar 2.0//EN
METHOD:PUBLISH
X-PUBLISHED-TTL:P3D
REFRESH-INTERVAL:P3D
CALSCALE:GREGORIAN
BEGIN:VEVENT
DTSTART:20160316T200000Z
DTEND:20160316T230000Z
X-MICROSOFT-CDO-ALLDAYEVENT:FALSE
SUMMARY:SCORE Presents Business Basics Workshop
DESCRIPTION:SCORE Presents Free Business Education Classes  Business Basics  Presented By: Richard Adler  This workshop is an overview of the basics of starting a business\, including:    	creating a business plan 	creating a marketing plan 	understanding financial statements and funding    These topics are covered in detail in subsequent workshops\; this workshop provides an overview so that the attendees can decide which topics they want to explore in more detail.  Instructor mini-bio:  Richard Adler has a BS in Business Administration from Ohio University and a JD from Cleveland State University. 1968.  He joined North Coast SCORE in 2008 and has been a Mentor and Chapter Chair.  Richard's specialties are: restaurant operations\, Franchising\, Real estate\, Small business development and construction.  Register here  or contact the Chamber of Commerce at 707-263-5092     Next class in series: April 20\, 2016 - Business Plan - Roy Johnston
X-ALT-DESC;FMTTYPE=text/html:<p style="text-align: center\;"><span style="font-size:14px\;"><strong>SCORE Presents Free Business Education Classes</strong></span></p>  <p style="text-align: center\;"><span style="color:#339900\;"><span style="font-size: 18px\;"><strong>Business Basics</strong></span></span></p>  <p style="text-align: center\;"><strong>Presented By: Richard Adler</strong></p>  <p>This workshop is <strong>an overview of the basics of starting a business</strong>\, including:</p>  <blockquote> <ul> 	<li>creating a business plan</li> 	<li>creating a marketing plan</li> 	<li>understanding financial statements and funding</li> </ul> </blockquote>  <p>These topics are covered in detail in subsequent workshops\; this workshop provides an overview so that the attendees can decide which topics they want to explore in more detail.</p>  <p><strong><span style="text-decoration: underline\;" title="">Instructor mini-bio</span></strong>:</p>  <p style="margin-left: 40px\;"><strong>Richard Adler</strong> has a BS in Business Administration from Ohio University and a JD from Cleveland State University. 1968.&nbsp\; He joined North Coast SCORE in 2008 and has been a Mentor and Chapter Chair.&nbsp\; Richard&#39\;s specialties are: restaurant operations\, Franchising\, Real estate\, Small business development and construction.</p>  <p><span style="font-size:20px\;"><strong><a href="http://events.constantcontact.com/register/event?llr=srqw8yjab&amp\;oeidk=a07ec90gsa06eec2533"><span style="color: rgb(51\, 102\, 255)\;">Register here</span></a></strong></span>&nbsp\; or contact the Chamber of Commerce at 707-263-5092</p>  <p>&nbsp\;</p>  <p>Next class in series: <a href="http://www2.lakecochamber.com/calendar/w/id/19740/event-details.asp"><strong>April 20\, 2016 - Business Plan - Roy Johnston</strong></a></p>  <p>&nbsp\;</p> 
LOCATION:Lakeport City Hall
UID:e.1531.3230
SEQUENCE:3
DTSTAMP:20260421T102022Z
URL:https://cmmembers.psaeger.com/events/details/score-presents-business-basics-workshop-03-16-2016-3230
END:VEVENT

END:VCALENDAR
