BEGIN:VCALENDAR
VERSION:2.0
PRODID:-//ChamberMaster//Event Calendar 2.0//EN
METHOD:PUBLISH
X-PUBLISHED-TTL:P3D
REFRESH-INTERVAL:P3D
CALSCALE:GREGORIAN
BEGIN:VEVENT
DTSTART:20160619T173000Z
DTEND:20160619T220000Z
X-MICROSOFT-CDO-ALLDAYEVENT:FALSE
SUMMARY:Rural Jazz at Blue Wing Fathers' Day Brunch
DESCRIPTION:Enjoy a great brunch from 10:30 to 3:00 with live music inside or out in the garden in good weather from 11:30 to 2:00. Music on this special Fathers' Day is by Jim Leonardis and his Rural Jazz Quartet with special guest Will Siegel.
X-ALT-DESC;FMTTYPE=text/html:<p>Enjoy a great brunch from 10:30 to 3:00 with live music inside or out in the garden in good weather from 11:30 to 2:00. Music on this special Fathers&#39\; Day is by Jim Leonardis and his Rural Jazz Quartet with special guest Will Siegel.</p> 
LOCATION:Blue Wing Restaurant
UID:e.1531.3423
SEQUENCE:3
DTSTAMP:20260421T042947Z
URL:https://cmmembers.psaeger.com/events/details/rural-jazz-at-blue-wing-fathers-day-brunch-06-19-2016-3423
END:VEVENT

END:VCALENDAR
