BEGIN:VCALENDAR
VERSION:2.0
PRODID:-//ChamberMaster//Event Calendar 2.0//EN
METHOD:PUBLISH
X-PUBLISHED-TTL:P3D
REFRESH-INTERVAL:P3D
CALSCALE:GREGORIAN
BEGIN:VEVENT
DTSTART:20160513T013000Z
DTEND:20160513T033000Z
X-MICROSOFT-CDO-ALLDAYEVENT:FALSE
SUMMARY:Poet & Author Series
DESCRIPTION:Meet authors Gene Paleno who has written several books including the "History of Lake County" and                  Dave Faries editor of The Lake County Record Bee.  Dave's years as a jouranist in the U.S. & Europe will have many exciting stories to share.  Share Gene's 30 years of experience as a writer while enjoying appitizers & Lake County Wine  There is no charge for this opportunity to meet these interesting personalities.  .
X-ALT-DESC;FMTTYPE=text/html:<p>Meet authors Gene Paleno who has written several books including the &quot\;History of Lake County&quot\; and&nbsp\;&nbsp\;&nbsp\;&nbsp\;&nbsp\;&nbsp\;&nbsp\;&nbsp\;&nbsp\;&nbsp\;&nbsp\;&nbsp\;&nbsp\;&nbsp\;&nbsp\;&nbsp\;&nbsp\; Dave Faries editor of The Lake County Record Bee.&nbsp\; Dave&#39\;s years as a jouranist in the U.S. &amp\; Europe will have many exciting stories to share.&nbsp\; Share Gene&#39\;s 30 years of experience as a writer while enjoying appitizers &amp\; Lake County Wine&nbsp\; There is no charge for this opportunity to meet these interesting personalities.</p>  <p>.</p>  <p>&nbsp\;</p> 
LOCATION:325 Main Street\, Lakeport
UID:e.1531.3476
SEQUENCE:3
DTSTAMP:20260421T055921Z
URL:https://cmmembers.psaeger.com/events/details/poet-author-series-05-12-2016-3476
END:VEVENT

END:VCALENDAR
