BEGIN:VCALENDAR
VERSION:2.0
PRODID:-//ChamberMaster//Event Calendar 2.0//EN
METHOD:PUBLISH
X-PUBLISHED-TTL:P3D
REFRESH-INTERVAL:P3D
CALSCALE:GREGORIAN
BEGIN:VEVENT
DTSTART:20160320T010000Z
DTEND:20160320T030000Z
X-MICROSOFT-CDO-ALLDAYEVENT:FALSE
SUMMARY:Pianist Michael Maffei at the Blue Wing
DESCRIPTION:Our favorite background pianist and entertainer Michael Maffei returns for a week to the Blue Wing at suppertime.
X-ALT-DESC;FMTTYPE=text/html:<p>Our favorite background pianist and entertainer Michael Maffei returns for a week to the Blue Wing at suppertime.</p> 
LOCATION:Blue Wing Restaurant
UID:e.1531.3234
SEQUENCE:3
DTSTAMP:20260421T102345Z
URL:https://cmmembers.psaeger.com/events/details/pianist-michael-maffei-at-the-blue-wing-03-19-2016-3234
END:VEVENT

END:VCALENDAR
