BEGIN:VCALENDAR
VERSION:2.0
PRODID:-//ChamberMaster//Event Calendar 2.0//EN
METHOD:PUBLISH
X-PUBLISHED-TTL:P3D
REFRESH-INTERVAL:P3D
CALSCALE:GREGORIAN
BEGIN:VEVENT
DTSTART:20160604T210000Z
DTEND:20160605T010000Z
X-MICROSOFT-CDO-ALLDAYEVENT:FALSE
SUMMARY:People Services Annual Chicken-Que Fundraiser
DESCRIPTION:People Services Annual Chicken-Que Fundraiser  June 4th\, 2016 at the Lake County Fairgrounds  2:00pm  til 6:00pm  Tickets for a Tasty Country Picnic Dinner are only $7.00 each or 4 for $25.00  Family Fun with Silent Auction and Entertainment by the LC Diamonds  Contact People Services at 263-3810 for more information
X-ALT-DESC;FMTTYPE=text/html:<p>People Services Annual Chicken-Que Fundraiser</p>  <p>June 4th\, 2016 at the Lake County Fairgrounds</p>  <p>2:00pm &nbsp\;til&nbsp\;6:00pm</p>  <p>Tickets for a Tasty Country Picnic Dinner are only $7.00 each or 4 for $25.00</p>  <p>Family Fun with Silent Auction and Entertainment by the LC Diamonds</p>  <p>Contact People Services at 263-3810 for more information</p> 
LOCATION:Lake County Fairgrounds
UID:e.1531.3730
SEQUENCE:3
DTSTAMP:20260421T042831Z
URL:https://cmmembers.psaeger.com/events/details/people-services-annual-chicken-que-fundraiser-06-04-2016-3730
END:VEVENT

END:VCALENDAR
