BEGIN:VCALENDAR
VERSION:2.0
PRODID:-//ChamberMaster//Event Calendar 2.0//EN
METHOD:PUBLISH
X-PUBLISHED-TTL:P3D
REFRESH-INTERVAL:P3D
CALSCALE:GREGORIAN
BEGIN:VEVENT
DTSTART:20160714T220000Z
DTEND:20160715T010000Z
X-MICROSOFT-CDO-ALLDAYEVENT:FALSE
SUMMARY:People's Choice Wine Tasting & More
DESCRIPTION:We want YOU!\n\nThe professional judges have had their say - now it is your turn.  \n\nCome out for a fun afternoon at Moore Family Winery\, the coolest place in Lake County for the People's Choice.  \n\nBlind taste and vote for your favorite wines.  Sip award winning wines from the Lake County Wine Awards Competition\, taste Lake County olive oils\, more.  Nosh on tasty fare.  Groove to the music of SoundsLikeFun Entertainment.  Learn about Lake County Sauvignon Blanc in a special tasting experience.\n\nMore details coming soon at www.lakecountywineries.org.  Ticket price will be $40 in advance or $45 at the door.  Must be 21 or older to participate.  \n\nEvent location:  Moore Family Winery\, 11990 Bottlerock Road\, Kelseyville\, CA  95451\n\n \n\nFor more information\, contact Terry Dereniuk\, Lake County Winery Association\n\n                                                      email - director@lakecountywinerie.org\n\n                                                      phone - 707 357-5237
X-ALT-DESC;FMTTYPE=text/html:<h1 style="text-align: center\;">&nbsp\;</h1>\n\n<h1 style="text-align: center\;">&nbsp\;</h1>\n\n<h1 style="text-align: center\;"><u><strong>We want YOU!</strong></u></h1>\n\n<h3 style="text-align: center\;">The professional judges have had their say - now it is your turn. &nbsp\;</h3>\n\n<h3>Come out for a fun afternoon at Moore Family Winery\, the coolest place in Lake County for the <strong>People&#39\;s Choice</strong>. &nbsp\;</h3>\n\n<h3>Blind taste and vote for your favorite wines. &nbsp\;Sip award winning wines from the Lake County Wine Awards Competition\, taste Lake County olive oils\, more. &nbsp\;Nosh on tasty fare. &nbsp\;Groove to the music of SoundsLikeFun Entertainment. &nbsp\;Learn about Lake County Sauvignon Blanc in a special tasting experience.</h3>\n\n<h3>More details coming soon at www.lakecountywineries.org. &nbsp\;Ticket price will be $40 in advance or $45 at the door. &nbsp\;Must be 21 or older to participate. &nbsp\;</h3>\n\n<h3>Event location: &nbsp\;Moore Family Winery\, 11990 Bottlerock Road\,&nbsp\;Kelseyville\, CA &nbsp\;95451</h3>\n\n<h3>&nbsp\;</h3>\n\n<h3>For more information\, contact Terry Dereniuk\,&nbsp\;Lake County Winery Association</h3>\n\n<h3>&nbsp\; &nbsp\; &nbsp\; &nbsp\; &nbsp\; &nbsp\; &nbsp\; &nbsp\; &nbsp\; &nbsp\; &nbsp\; &nbsp\; &nbsp\; &nbsp\; &nbsp\; &nbsp\; &nbsp\; &nbsp\; &nbsp\; &nbsp\; &nbsp\; &nbsp\; &nbsp\; &nbsp\; &nbsp\; &nbsp\; &nbsp\; email - director@lakecountywinerie.org</h3>\n\n<h3>&nbsp\; &nbsp\; &nbsp\; &nbsp\; &nbsp\; &nbsp\; &nbsp\; &nbsp\; &nbsp\; &nbsp\; &nbsp\; &nbsp\; &nbsp\; &nbsp\; &nbsp\; &nbsp\; &nbsp\; &nbsp\; &nbsp\; &nbsp\; &nbsp\; &nbsp\; &nbsp\; &nbsp\; &nbsp\; &nbsp\; &nbsp\; phone - 707 357-5237</h3>\n
LOCATION:Moore Family Winery\, 11990 Bottle Rock Road\, Kelseyville\, CA 95451
UID:e.1531.3726
SEQUENCE:3
DTSTAMP:20260421T042833Z
URL:https://cmmembers.psaeger.com/events/details/people-s-choice-wine-tasting-more-07-14-2016-3726
END:VEVENT

END:VCALENDAR
