BEGIN:VCALENDAR
VERSION:2.0
PRODID:-//ChamberMaster//Event Calendar 2.0//EN
METHOD:PUBLISH
X-PUBLISHED-TTL:P3D
REFRESH-INTERVAL:P3D
CALSCALE:GREGORIAN
BEGIN:VEVENT
DTSTART:20160323T010000Z
DTEND:20160323T030000Z
X-MICROSOFT-CDO-ALLDAYEVENT:FALSE
SUMMARY:Paul Farley at Blue Wing $20 Tuesday
DESCRIPTION:Live music is a great compliment to our weekly $20 Tuesdays fixed price three course offered in additional to our regular menu. Guitarist Dr. Paul Farley will be performing tonight.
X-ALT-DESC;FMTTYPE=text/html:<p>Live music is a great compliment to our weekly $20 Tuesdays fixed price three course offered in additional to our regular menu. Guitarist Dr. Paul Farley will be performing tonight.</p> 
LOCATION:Blue Wing Restaurant
UID:e.1531.3240
SEQUENCE:3
DTSTAMP:20260421T090208Z
URL:https://cmmembers.psaeger.com/events/details/paul-farley-at-blue-wing-20-tuesday-03-22-2016-3240
END:VEVENT

END:VCALENDAR
