BEGIN:VCALENDAR
VERSION:2.0
PRODID:-//ChamberMaster//Event Calendar 2.0//EN
METHOD:PUBLISH
X-PUBLISHED-TTL:P3D
REFRESH-INTERVAL:P3D
CALSCALE:GREGORIAN
BEGIN:VEVENT
DTSTART:20160707T170000Z
DTEND:20160707T193000Z
X-MICROSOFT-CDO-ALLDAYEVENT:FALSE
SUMMARY:Painting a Beautiful Gourd Rattle - Art Camp
DESCRIPTION:Painting a Beautiful Gourd Rattle   Linda Kelly.  Ages 6 - Adult.\n\n \n\nStudents will paint with acrylics on a gourd to create a beautiful rattle to use as a musical instrument and to showcase as a piece of art.\n\n \n\nSummer Youth Art Camp Classes   2016\n\nMain Street Gallery - 325 N Main Street\, Lakeport - (707) 263-6658\n\nRegistration at the gallery begins May 23. All materials are included for each class. Students will complete a project in class to take home\n\nJune 13   Leaf Painting   Sandy Stillwell\n\nMonday   9:00 am   Noon   Ages 9   adult   $13: Learn to make beautiful prints using yard leaves and watercolor paints.  Students will turn ordinary leaves into beautiful art.  Each student will make several pieces of art and a greeting card in time for Father's Day.\n\n \n\nJune 16   Under the Sea Collage   Lisa Nowak\n\nThursday   1:00 pm   3:30 pm   Ages 7   adult   $14: Learn easy drawing and painting techniques while creating colorful sea creatures in their ocean home using a variety of mixed media:  watercolor\, markers\, foil\, etc.\n\n \n\nJune 1 7   Acrylic Painting on Canvas   Lisa Nowak\n\nFriday   1:00 pm   4:00 pm   Ages 12   adult   $20: Lets design and create an exciting and colorful painting of a favorite bird or animal on an 11 x 14" canvas that will be ready to display.\n\n \n\nJune 20   Robot:  A Found Object Collage   Stephanie Del Bosco\n\nMonday   9:00 am   Noon   Ages 6 & up   $12: Students will use paper\, cardboard\, foil and found objects along with some paint and pencils to make a two-dimensional robot that will be affixed on paper.\n\n \n\nJune 21   Dinosaurs   Lisa Nowak\n\nTuesday   9:30am   Noon   Ages 7 & up   $14: Draw and paint favorite pre-historic creatures experiencing a variety of techniques while using watercolors\, pastels\, markers\, pen and ink and colored pencils.\n\n \n\nJune 22   The Painted Gourd Birdhouse   Linda Kelly\n\nWednesday   10:00 am   12:30 pm   Ages 6   adult   $10: Students will have fun with acrylics painting on a gourd to create a unique birdhouse for their own back yard.\n\n \n\nJune 23   Pomo Tule Dolls   Eugenie Steinman\n\nThursday   10:00 am   1:00 pm   Ages 7   adult  $15: Students will enjoy making the unique Native Pomo Tule Dolls from natural tule reed materials.  This will be a fun class for youths and adults.\n\n \n\nJune 27   Seed Bead Bracelets   Sandy Stillwell\n\nMonday   9:00 am   Noon   Ages 9   adult   $13: Students will have fun making at least one seed bead bracelet using memory wire and colorful seed beads.\n\n \n\nJune 29   Drawing Fundamentals (Animal or Pet)   Xuzena De Angelo\n\nWednesday   9:00 am   Noon   Ages 7   adult   $13: Bring a favorite photo/picture (5 x 7" or larger)\, or select from several provided\, to learn how to draw and create a delightful piece of art ready to display.\n\n \n\nJuly 6   Magical Fish Pictures   Stephanie Del Bosco\n\nWednesday   9:00 am   Noon   Ages 6 & up   $12: Inspired from the Paul Klee Golden Fish painting\, students will use mixed media of oil pastels and watercolor on thick paper to make a bright fish on a watercolor dark ocean background.\n\n                                                                                                                                                     \n\nJuly 7 - Painting a Beautiful Gourd Rattle   Linda Kelly\n\nThursday   10:00 am   12:30 pm   6   adult   $10: Students will paint with acrylics on a gourd to create a beautiful rattle to use as a musical instrument and to showcase as a piece of art.\n\n \n\nJuly 8   Sharpie Message Rocks   Xuzena De Angelo\n\nFriday   9:00 am   Noon   Ages 7 & up   $13: Students will have fun selecting a special message of their choosing to decorate a rock with permanent\,\n\nmulti-colored markers.\n\n \n\nJuly 11   Pastels for Beginners   Richard Seisser\n\nMonday   9:30 am   Noon   Ages 6 & Up   $15: Students will learn basic skills using pastels to create an exciting\, finished painting they will enjoy taking home and ready to display.\n\n \n\nJuly 13   Mixed-Media Artist Journal   Phyllis Thiessen\n\nWednesday   9:30 am   12:30 pm   Ages 8 & Up   $15: Students will construct an artist journal with a decorated cover and text pages using a variety of embellish-ments which can be used as a sketchbook\, writing journal\, scrapbook\, etc.  They will learn how to put together and bind the book and add decorations to personalize it. \n\n \n\nJuly 14   Pine Nut Shell Bead Creations   Eugenie Steinman\n\nThursday   10:00 am   1:00 pm   Ages 7   adult   $15: Students will have fun using Native American pump drills to make beads from clam and mussel shells that can be made into necklaces\, earrings\, bracelets or decorative hanging objects.\n\n \n\nJuly 20   Mask Decorating   Xuzena De Angelo\n\nWednesday   9:00 am   Noon   Ages 5 & Up   $13: Pick from four mask designs to embellish with markers\, feathers\, jewels\, etc.\, to create a colorful and exciting mask to wear or display anywhere.\n\n \n\nJuly 21   Hanging Mobile   Stephanie Del Bosco\n\nThursday   9:00 am   Noon   Ages 6 & Up   $12: Inspired from the mobiles of Alexander Calder\, students will make hanging mobiles using colorful paper and pipe cleaners.\n\n \n\nJuly 22   Polymer Clay   Lets Make a Dog   Naomi Key\n\nFriday   9:30 am   12:30 pm   Ages open   $10: Experience the fun of working with polymer clay to make\, bake and decorate an imaginary or favorite dog.  This is an interesting and fun class for all ages.\n\n \n\nJuly 25   Pastels for the Intermediate-Advanced Students   Richard Seisser\n\nMonday   9:30 am   Noon   Ages 6   adult   $15: This class is for those who have learned the fundamental skills of painting with pastels.  Students will create an individualistic painting ready to display.\n\n \n\nJuly 27   Creating a Dream Board (2016)   Xuzena De Angelo\n\nWednesday   9:00 am    Noon   Ages 5 & up   $13: Students will use their imagination and discover their passion using a variety of materials and words and pictures from magazines to create a work of art to identify what they wish to be or do in the future.  They will take home an artistic reference board ready to display.
X-ALT-DESC;FMTTYPE=text/html:<p>&nbsp\;</p>\n\n<p style="text-align: center\;"><span style="font-size:16px\;"><strong>Painting a Beautiful Gourd Rattle &ndash\; Linda Kelly. &nbsp\;Ages 6 - Adult.</strong></span></p>\n\n<p>&nbsp\;</p>\n\n<p>Students will paint with acrylics on a gourd to create a beautiful rattle to use as a musical instrument and to showcase as a piece of art.</p>\n\n<p>&nbsp\;</p>\n\n<p align="center"><span style="color:#800080\;"><span style="font-size: 18px\;"><strong>Summer Youth Art Camp Classes &ndash\; 2016</strong></span></span></p>\n\n<p align="center">Main Street Gallery - 325 N Main Street\, Lakeport - (707) 263-6658</p>\n\n<p>Registration at the gallery begins May 23. All materials are included for each class. Students will complete a project in class to take home</p>\n\n<p><strong>June 13 &ndash\; Leaf Painting &ndash\; Sandy Stillwell</strong></p>\n\n<p>Monday&nbsp\;&nbsp\; 9:00 am &ndash\; Noon&nbsp\;&nbsp\; Ages 9 &ndash\; adult&nbsp\;&nbsp\; $13: Learn to make beautiful prints using yard leaves and watercolor paints.&nbsp\; Students will turn ordinary leaves into beautiful art.&nbsp\; Each student will make several pieces of art and a greeting card in time for Father&rsquo\;s Day.</p>\n\n<p>&nbsp\;</p>\n\n<p><strong>June 16 &ndash\; Under the Sea Collage &ndash\; Lisa Nowak</strong></p>\n\n<p>Thursday&nbsp\;&nbsp\; 1:00 pm &ndash\; 3:30 pm&nbsp\;&nbsp\; Ages 7 &ndash\; adult&nbsp\;&nbsp\; $14: Learn easy drawing and painting techniques while creating colorful sea creatures in their ocean home using a variety of mixed media:&nbsp\; watercolor\, markers\, foil\, etc.</p>\n\n<p>&nbsp\;</p>\n\n<p><strong>June 1 7 &ndash\; Acrylic Painting on Canvas &ndash\; Lisa Nowak</strong></p>\n\n<p>Friday&nbsp\;&nbsp\; 1:00 pm &ndash\; 4:00 pm&nbsp\;&nbsp\; Ages 12 &ndash\; adult&nbsp\;&nbsp\; $20: Lets design and create an exciting and colorful painting of a favorite bird or animal on an 11 x 14&rdquo\; canvas that will be ready to display.</p>\n\n<p>&nbsp\;</p>\n\n<p><strong>June 20 &ndash\; Robot:&nbsp\; A Found Object Collage &ndash\; Stephanie Del Bosco</strong></p>\n\n<p>Monday&nbsp\;&nbsp\; 9:00 am &ndash\; Noon&nbsp\;&nbsp\; Ages 6 &amp\; up&nbsp\;&nbsp\; $12: Students will use paper\, cardboard\, foil and found objects along with some paint and pencils to make a two-dimensional robot that will be affixed on paper.</p>\n\n<p>&nbsp\;</p>\n\n<p><strong>June 21 &ndash\; Dinosaurs &ndash\; Lisa Nowak</strong></p>\n\n<p>Tuesday&nbsp\;&nbsp\; 9:30am &ndash\; Noon&nbsp\;&nbsp\; Ages 7 &amp\; up&nbsp\;&nbsp\; $14: Draw and paint favorite pre-historic creatures experiencing a variety of techniques while using watercolors\, pastels\, markers\, pen and ink and colored pencils.</p>\n\n<p>&nbsp\;</p>\n\n<p><strong>June 22</strong> &ndash\; T<strong>he Painted Gourd Birdhouse &ndash\; Linda Kelly</strong></p>\n\n<p>Wednesday&nbsp\;&nbsp\; 10:00 am &ndash\; 12:30 pm&nbsp\;&nbsp\; Ages 6 &ndash\; adult&nbsp\;&nbsp\; $10: Students will have fun with acrylics painting on a gourd to create a unique birdhouse for their own back yard.</p>\n\n<p>&nbsp\;</p>\n\n<p><strong>June 23 &ndash\; Pomo Tule Dolls &ndash\; Eugenie Steinman</strong></p>\n\n<p>Thursday&nbsp\;&nbsp\; 10:00 am &ndash\; 1:00 pm&nbsp\;&nbsp\; Ages 7 &ndash\; adult&nbsp\; $15: Students will enjoy making the unique Native Pomo Tule Dolls from natural tule reed materials.&nbsp\; This will be a fun class for youths and adults.</p>\n\n<p>&nbsp\;</p>\n\n<p><strong>June 27 &ndash\; Seed Bead Bracelets &ndash\; Sandy Stillwell</strong></p>\n\n<p>Monday&nbsp\;&nbsp\; 9:00 am &ndash\; Noon&nbsp\;&nbsp\; Ages 9 &ndash\; adult&nbsp\;&nbsp\; $13: Students will have fun making at least one seed bead bracelet using memory wire and colorful seed beads.</p>\n\n<p>&nbsp\;</p>\n\n<p><strong>June 29 &ndash\; Drawing Fundamentals (Animal or Pet) &ndash\; Xuzena De Angelo</strong></p>\n\n<p>Wednesday&nbsp\;&nbsp\; 9:00 am &ndash\; Noon&nbsp\;&nbsp\; Ages 7 &ndash\; adult&nbsp\;&nbsp\; $13: Bring a favorite photo/picture (5 x 7&rdquo\; or larger)\, or select from several provided\, to learn how to draw and create a delightful piece of art ready to display.</p>\n\n<p>&nbsp\;</p>\n\n<p><strong>July 6 &ndash\; Magical Fish Pictures &ndash\; Stephanie Del Bosco</strong></p>\n\n<p>Wednesday&nbsp\;&nbsp\; 9:00 am &ndash\; Noon&nbsp\;&nbsp\; Ages 6 &amp\; up&nbsp\;&nbsp\; $12: Inspired from the Paul Klee Golden Fish painting\, students will use mixed media of oil pastels and watercolor on thick paper to make a bright fish on a watercolor dark ocean background.</p>\n\n<p>&nbsp\;&nbsp\;&nbsp\;&nbsp\;&nbsp\;&nbsp\;&nbsp\;&nbsp\;&nbsp\;&nbsp\;&nbsp\;&nbsp\;&nbsp\;&nbsp\;&nbsp\;&nbsp\;&nbsp\;&nbsp\;&nbsp\;&nbsp\;&nbsp\;&nbsp\;&nbsp\;&nbsp\;&nbsp\;&nbsp\;&nbsp\;&nbsp\;&nbsp\;&nbsp\;&nbsp\;&nbsp\;&nbsp\;&nbsp\;&nbsp\;&nbsp\;&nbsp\;&nbsp\;&nbsp\;&nbsp\;&nbsp\;&nbsp\;&nbsp\;&nbsp\;&nbsp\;&nbsp\;&nbsp\;&nbsp\;&nbsp\;&nbsp\;&nbsp\;&nbsp\;&nbsp\;&nbsp\;&nbsp\;&nbsp\;&nbsp\;&nbsp\;&nbsp\;&nbsp\;&nbsp\;&nbsp\;&nbsp\;&nbsp\;&nbsp\;&nbsp\;&nbsp\;&nbsp\;&nbsp\;&nbsp\;&nbsp\;&nbsp\;&nbsp\;&nbsp\;&nbsp\;&nbsp\;&nbsp\;&nbsp\;&nbsp\;&nbsp\;&nbsp\;&nbsp\;&nbsp\;&nbsp\;&nbsp\;&nbsp\;&nbsp\;&nbsp\;&nbsp\;&nbsp\;&nbsp\;&nbsp\;&nbsp\;&nbsp\;&nbsp\;&nbsp\;&nbsp\;&nbsp\;&nbsp\;&nbsp\;&nbsp\;&nbsp\;&nbsp\;&nbsp\;&nbsp\;&nbsp\;&nbsp\;&nbsp\;&nbsp\;&nbsp\;&nbsp\;&nbsp\;&nbsp\;&nbsp\;&nbsp\;&nbsp\;&nbsp\;&nbsp\;&nbsp\;&nbsp\;&nbsp\;&nbsp\;&nbsp\;&nbsp\;&nbsp\;&nbsp\;&nbsp\;&nbsp\;&nbsp\;&nbsp\;&nbsp\;&nbsp\;&nbsp\;&nbsp\;&nbsp\;&nbsp\;&nbsp\;&nbsp\;&nbsp\;&nbsp\;&nbsp\;&nbsp\;&nbsp\;&nbsp\;&nbsp\;&nbsp\;&nbsp\;&nbsp\;&nbsp\;</p>\n\n<p><strong>July 7 - Painting a Beautiful Gourd Rattle &ndash\; Linda Kelly</strong></p>\n\n<p>Thursday&nbsp\;&nbsp\; 10:00 am &ndash\; 12:30 pm&nbsp\;&nbsp\; 6 &ndash\; adult&nbsp\;&nbsp\; $10: Students will paint with acrylics on a gourd to create a beautiful rattle to use as a musical instrument and to showcase as a piece of art.</p>\n\n<p>&nbsp\;</p>\n\n<p><strong>July 8 &ndash\; Sharpie Message Rocks &ndash\; Xuzena De Angelo</strong></p>\n\n<p>Friday&nbsp\;&nbsp\; 9:00 am &ndash\; Noon&nbsp\;&nbsp\; Ages 7 &amp\; up&nbsp\;&nbsp\; $13: Students will have fun selecting a special message of their choosing to decorate a rock with permanent\,</p>\n\n<p>multi-colored markers.</p>\n\n<p>&nbsp\;</p>\n\n<p><strong>July 11 &ndash\; Pastels for Beginners &ndash\; Richard Seisser</strong></p>\n\n<p>Monday&nbsp\;&nbsp\; 9:30 am &ndash\; Noon&nbsp\;&nbsp\; Ages 6 &amp\; Up&nbsp\;&nbsp\; $15: Students will learn basic skills using pastels to create an exciting\, finished painting they will enjoy taking home and ready to display.</p>\n\n<p>&nbsp\;</p>\n\n<p><strong>July 13 &ndash\; Mixed-Media Artist Journal &ndash\; Phyllis Thiessen</strong></p>\n\n<p>Wednesday&nbsp\;&nbsp\; 9:30 am &ndash\; 12:30 pm&nbsp\;&nbsp\; Ages 8 &amp\; Up&nbsp\;&nbsp\; $15: Students will construct an artist journal with a decorated cover and text pages using a variety of embellish-ments which can be used as a sketchbook\, writing journal\, scrapbook\, etc.&nbsp\; They will learn how to put together and bind the book and add decorations to personalize it.&nbsp\;</p>\n\n<p>&nbsp\;</p>\n\n<p><strong>July 14 &ndash\; Pine Nut Shell Bead Creations &ndash\; Eugenie Steinman</strong></p>\n\n<p>Thursday&nbsp\;&nbsp\; 10:00 am &ndash\; 1:00 pm&nbsp\;&nbsp\; Ages 7 &ndash\; adult&nbsp\;&nbsp\; $15: Students will have fun using Native American pump drills to make beads from clam and mussel shells that can be made into necklaces\, earrings\, bracelets or decorative hanging objects.</p>\n\n<p>&nbsp\;</p>\n\n<p><strong>July 20 &ndash\; Mask Decorating &ndash\; Xuzena De Angelo</strong></p>\n\n<p>Wednesday&nbsp\;&nbsp\; 9:00 am &ndash\; Noon&nbsp\;&nbsp\; Ages 5 &amp\; Up&nbsp\;&nbsp\; $13: Pick from four mask designs to embellish with markers\, feathers\, jewels\, etc.\, to create a colorful and exciting mask to wear or display anywhere.</p>\n\n<p>&nbsp\;</p>\n\n<p><strong>July 21 &ndash\; Hanging Mobile &ndash\; Stephanie Del Bosco</strong></p>\n\n<p>Thursday&nbsp\;&nbsp\; 9:00 am &ndash\; Noon&nbsp\;&nbsp\; Ages 6 &amp\; Up&nbsp\;&nbsp\; $12: Inspired from the mobiles of Alexander Calder\, students will make hanging mobiles using colorful paper and pipe cleaners.</p>\n\n<p>&nbsp\;</p>\n\n<p><strong>July 22 &ndash\; Polymer Clay &ndash\; Lets Make a Dog &ndash\; Naomi Key</strong></p>\n\n<p>Friday&nbsp\;&nbsp\; 9:30 am &ndash\; 12:30 pm&nbsp\;&nbsp\; Ages open&nbsp\;&nbsp\; $10: Experience the fun of working with polymer clay to make\, bake and decorate an imaginary or favorite dog.&nbsp\; This is an interesting and fun class for all ages.</p>\n\n<p>&nbsp\;</p>\n\n<p><strong>July 25 &ndash\; Pastels for the Intermediate-Advanced Students &ndash\; Richard Seisser</strong></p>\n\n<p>Monday&nbsp\;&nbsp\; 9:30 am &ndash\; Noon&nbsp\;&nbsp\; Ages 6 &ndash\; adult&nbsp\;&nbsp\; $15: This class is for those who have learned the fundamental skills of painting with pastels.&nbsp\; Students will create an individualistic painting ready to display.</p>\n\n<p>&nbsp\;</p>\n\n<p><strong>July 27 &ndash\; Creating a Dream Board (2016) &ndash\; Xuzena De Angelo</strong></p>\n\n<p>Wednesday&nbsp\;&nbsp\; 9:00 am&nbsp\; &ndash\; Noon&nbsp\;&nbsp\; Ages 5 &amp\; up&nbsp\;&nbsp\; $13: Students will use their imagination and discover their passion using a variety of materials and words and pictures from magazines to create a work of art to identify what they wish to be or do in the future.&nbsp\; They will take home an artistic reference board ready to display.</p>\n
LOCATION:Main Street Gallery - 325 N. Main Street
UID:e.1531.3757
SEQUENCE:3
DTSTAMP:20260421T024020Z
URL:https://cmmembers.psaeger.com/events/details/painting-a-beautiful-gourd-rattle-art-camp-07-07-2016-3757
END:VEVENT

END:VCALENDAR
