BEGIN:VCALENDAR
VERSION:2.0
PRODID:-//ChamberMaster//Event Calendar 2.0//EN
METHOD:PUBLISH
X-PUBLISHED-TTL:P3D
REFRESH-INTERVAL:P3D
CALSCALE:GREGORIAN
BEGIN:VEVENT
DTSTART:20161001T180000Z
DTEND:20161002T043000Z
X-MICROSOFT-CDO-ALLDAYEVENT:FALSE
SUMMARY:Oktoberfest
DESCRIPTION:SAVE THE DATE.
X-ALT-DESC;FMTTYPE=text/html:<p>SAVE THE DATE.</p> 
LOCATION:Main St.\, Lakeport
UID:e.1531.3330
SEQUENCE:3
DTSTAMP:20260420T214118Z
URL:https://cmmembers.psaeger.com/events/details/oktoberfest-10-01-2016-3330
END:VEVENT

END:VCALENDAR
