BEGIN:VCALENDAR
VERSION:2.0
PRODID:-//ChamberMaster//Event Calendar 2.0//EN
METHOD:PUBLISH
X-PUBLISHED-TTL:P3D
REFRESH-INTERVAL:P3D
CALSCALE:GREGORIAN
BEGIN:VEVENT
DTSTART:20160619T170000Z
DTEND:20160619T230000Z
X-MICROSOFT-CDO-ALLDAYEVENT:FALSE
SUMMARY:Middletown Days
DESCRIPTION:SAVE THE DATE.
X-ALT-DESC;FMTTYPE=text/html:<p>SAVE THE DATE.</p> 
LOCATION:Middletown\, CA
UID:e.1531.3301
SEQUENCE:3
DTSTAMP:20260421T042544Z
URL:https://cmmembers.psaeger.com/events/details/middletown-days-06-19-2016-3301
END:VEVENT

END:VCALENDAR
