BEGIN:VCALENDAR
VERSION:2.0
PRODID:-//ChamberMaster//Event Calendar 2.0//EN
METHOD:PUBLISH
X-PUBLISHED-TTL:P3D
REFRESH-INTERVAL:P3D
CALSCALE:GREGORIAN
BEGIN:VEVENT
DTSTART;VALUE=DATE:20131016
DTEND;VALUE=DATE:20131017
TRANSP:TRANSPARENT
X-MICROSOFT-CDO-ALLDAYEVENT:TRUE
SUMMARY:membereventEvent at 50 State Security Service\, Inc.
DESCRIPTION:test
X-ALT-DESC;FMTTYPE=text/html:test
LOCATION:
UID:e.1531.840
SEQUENCE:3
DTSTAMP:20260423T065033Z
URL:https://cmmembers.psaeger.com/events/details/membereventevent-at-50-state-security-service-inc-10-16-2013-840
END:VEVENT

END:VCALENDAR
