BEGIN:VCALENDAR
VERSION:2.0
PRODID:-//ChamberMaster//Event Calendar 2.0//EN
METHOD:PUBLISH
X-PUBLISHED-TTL:P3D
REFRESH-INTERVAL:P3D
CALSCALE:GREGORIAN
BEGIN:VEVENT
DTSTART:20160704T043000Z
DTEND:20160703T070000Z
X-MICROSOFT-CDO-ALLDAYEVENT:FALSE
SUMMARY:Maxine Sherman Memorial Fireworks
DESCRIPTION:Maxine Sherman Memorial Fireworks     Clearlake Oaks Boat Launch     July 3\, 2016 ~ 9:30pm     Maxine Sherman Memorial annual fireworks display starts at dark\, launched from Clearlake Oaks Boat Launch. The best viewing area is on the water\, anchored east of Rattlesnake Island. From the shore\, Clearlake Oaks Beach on Island Drive is a great spot.  Sponsored by the Clearlake Oaks/ Glenhaven Business Association\, clearlakeoaks.org. Free
X-ALT-DESC;FMTTYPE=text/html:<h1><span style="color:#0000FF\;">Maxine Sherman Memorial Fireworks</span></h1>  <p>&nbsp\;</p>  <p><span style="font-size:18px\;"><strong>Clearlake Oaks Boat Launch</strong></span></p>  <p>&nbsp\;</p>  <h1><span style="color:#FF0000\;">July 3\, 2016 ~ 9:30pm</span></h1>  <h1>&nbsp\;</h1>  <p><span style="font-size:12px\;">Maxine Sherman Memorial annual fireworks display starts at dark\, launched from Clearlake Oaks Boat Launch. The best viewing area is on the water\, anchored east of Rattlesnake Island. From the shore\, Clearlake Oaks Beach on Island Drive is a great spot.</span></p>  <p><span style="font-size:12px\;">Sponsored by the Clearlake Oaks/ Glenhaven Business Association\, <a href="http://clearlakeoaks.org" target="_blank">clearlakeoaks.org</a>. Free</span></p> 
LOCATION:Clearlake Oaks Boat Launch
UID:e.1531.3307
SEQUENCE:3
DTSTAMP:20260421T024300Z
URL:https://cmmembers.psaeger.com/events/details/maxine-sherman-memorial-fireworks-07-03-2016-3307
END:VEVENT

END:VCALENDAR
