BEGIN:VCALENDAR
VERSION:2.0
PRODID:-//ChamberMaster//Event Calendar 2.0//EN
METHOD:PUBLISH
X-PUBLISHED-TTL:P3D
REFRESH-INTERVAL:P3D
CALSCALE:GREGORIAN
BEGIN:VEVENT
DTSTART:20160516T010000Z
DTEND:20160516T030000Z
X-MICROSOFT-CDO-ALLDAYEVENT:FALSE
SUMMARY:''Majide'' at Blue Wing Sunday Supper
DESCRIPTION:Join "Majide\," the smooth combo of Paul Kemp on keys and Machiko Shimada on vocals\, for some pleasant Sunday supper background music at the Blue Wing.  They play inside or out on the Hotel veranda in good weather.
X-ALT-DESC;FMTTYPE=text/html:<p>Join &quot\;Majide\,&quot\; the smooth combo of Paul Kemp on keys and Machiko Shimada on vocals\, for some pleasant Sunday supper background music at the Blue Wing.&nbsp\; They play inside or out on the Hotel veranda in good weather.</p> 
LOCATION:Blue Wing Restaurant
UID:e.1531.3401
SEQUENCE:3
DTSTAMP:20260421T060225Z
URL:https://cmmembers.psaeger.com/events/details/majide-at-blue-wing-sunday-supper-05-15-2016-3401
END:VEVENT

END:VCALENDAR
