BEGIN:VCALENDAR
VERSION:2.0
PRODID:-//ChamberMaster//Event Calendar 2.0//EN
METHOD:PUBLISH
X-PUBLISHED-TTL:P3D
REFRESH-INTERVAL:P3D
CALSCALE:GREGORIAN
BEGIN:VEVENT
DTSTART:20160417T023000Z
DTEND:20160417T040000Z
X-MICROSOFT-CDO-ALLDAYEVENT:FALSE
SUMMARY:Macy Blackman in Tallman Concert
DESCRIPTION:The Tallman Concerts with Conversation is a series of intimate but informal concerts held for an audience of about 40 people in the Meeting House next to the Tallman Hotel.  The monthly winter-spring concerts are in a variety of genres and feature some of the top musicians in Northern California.  Tickets at $25 + tax are available at the Tallman Reception Desk (707) 275-2244 ext. 0.  Tonight's concert features the wonderful San Francisco-based jazz and boogie woogie pianist Macy Blackman backed by Nancy Wright on sax and Bing Nathan on bass.
X-ALT-DESC;FMTTYPE=text/html:<p>The Tallman Concerts with Conversation is a series of intimate but informal concerts held for an audience of about 40 people in the Meeting House next to the Tallman Hotel.&nbsp\; The monthly winter-spring concerts are in a variety of genres and feature some of the top musicians in Northern California.&nbsp\; Tickets at $25 + tax are available at the Tallman Reception Desk (707) 275-2244 ext. 0.&nbsp\; Tonight&#39\;s concert features the wonderful San Francisco-based jazz and boogie woogie pianist Macy Blackman backed by Nancy Wright on sax and Bing Nathan on bass.</p> 
LOCATION:Tallman Hotel
UID:e.1531.3252
SEQUENCE:3
DTSTAMP:20260421T072956Z
URL:https://cmmembers.psaeger.com/events/details/macy-blackman-in-tallman-concert-04-16-2016-3252
END:VEVENT

END:VCALENDAR
