BEGIN:VCALENDAR
VERSION:2.0
PRODID:-//ChamberMaster//Event Calendar 2.0//EN
METHOD:PUBLISH
X-PUBLISHED-TTL:P3D
REFRESH-INTERVAL:P3D
CALSCALE:GREGORIAN
BEGIN:VEVENT
DTSTART:20160330T173000Z
DTEND:20160330T190000Z
X-MICROSOFT-CDO-ALLDAYEVENT:FALSE
SUMMARY:Loan Readiness for your Small Business
DESCRIPTION:Loan Readiness for Your Small Business - Free  How does a small business get money?  Learn at this free class  TOPICS TO BE COVERED:   	How does a small business get money? 	Bank loans  are they impossible? Doing your homework before applying for a loan  who might be able to help you? Why might a bank not be able to lend to your business? 	What is the SBA Loan Guarantee Program how can SBA help? How does SBA look at my loan request Are their tips for dealing with lenders? What else can SBA do for my business? 	Differences in Bank Lending and Alternative Lending\, and resources available      To registar: go to necsbdc.ecenterdirect.com/events/13696
X-ALT-DESC;FMTTYPE=text/html:<h1 style="text-align: center\;"><span style="font-size:18px\;">Loan Readiness for Your Small Business - Free</span></h1>  <p style="text-align: center\;"><span style="font-size:12px\;">How&nbsp\;does a small business get money? &nbsp\;Learn at this free class</span></p>  <p>TOPICS TO BE COVERED:</p>  <ul> 	<li>How does a small business get money?</li> 	<li>Bank loans&mdash\; are they impossible? Doing your homework before applying for a loan&mdash\; who might be able to help you? Why might a bank not be able to lend to your business?</li> 	<li>What is the SBA Loan Guarantee Program&mdash\;how can SBA help? How does SBA look at my loan request Are their tips for dealing with lenders? What else can SBA do for my business?</li> 	<li>Differences in Bank Lending and Alternative Lending\, and resources available</li> </ul>  <p style="text-align: center\;">&nbsp\;</p>  <p style="text-align: center\;"><span style="font-size:14px\;"><strong>To registar: go to necsbdc.ecenterdirect.com/events/13696</strong></span></p> 
LOCATION:Umpqua Bank 805 11th St\, Lakeport
UID:e.1531.3355
SEQUENCE:3
DTSTAMP:20260421T102422Z
URL:https://cmmembers.psaeger.com/events/details/loan-readiness-for-your-small-business-03-30-2016-3355
END:VEVENT

END:VCALENDAR
