BEGIN:VCALENDAR
VERSION:2.0
PRODID:-//ChamberMaster//Event Calendar 2.0//EN
METHOD:PUBLISH
X-PUBLISHED-TTL:P3D
REFRESH-INTERVAL:P3D
CALSCALE:GREGORIAN
BEGIN:VEVENT
DTSTART:20160529T160000Z
DTEND:20160529T220000Z
X-MICROSOFT-CDO-ALLDAYEVENT:FALSE
SUMMARY:Lakeport Kiwanis Craft Fair
DESCRIPTION:The 26th Annual Kiwanis Craft Fair is held at Natural High\, 810 N. Main St. in Lakeport from 9:00 AM to 3:00 PM.  Artisans and crafters will be displaying and selling a wide range of hand crafts and food items.  The Craft Fair supports the Lakeport Kiwanis Scholarship Fund as well as community projects.    Food is available at the event\, including kettle corn\, Polish dogs\, and snow cones.  Music will begin at 9:00 AM.  The Lakeport Kiwanis Club is a group of volunteers dedicated to supporting our youth and serving our community.  More information about our club is available on the website\, kiwanislakeport.org or on our Facebook page\, Kiwanis Club of Lakeport CA.
X-ALT-DESC;FMTTYPE=text/html:<p>The 26th Annual Kiwanis&nbsp\;Craft Fair is held at Natural High\, 810 N. Main St. in Lakeport from 9:00 AM to 3:00 PM.</p>  <p>Artisans and crafters will be displaying and selling a wide range of hand crafts and food items.</p>  <p>The Craft Fair supports the Lakeport Kiwanis Scholarship Fund as well as community projects.&nbsp\;&nbsp\;</p>  <p>Food is available at the event\, including kettle corn\, Polish dogs\, and snow cones.</p>  <p>Music will begin at 9:00 AM.</p>  <p>The Lakeport Kiwanis Club is a group of volunteers dedicated to supporting our youth and serving our community. &nbsp\;More information about our club is available on the website\, kiwanislakeport.org or on our Facebook page\, Kiwanis Club of Lakeport CA.</p> 
LOCATION:Natural High 810 N. Main St. Lkpt
UID:e.1531.3408
SEQUENCE:3
DTSTAMP:20260421T060224Z
URL:https://cmmembers.psaeger.com/events/details/lakeport-kiwanis-craft-fair-05-29-2016-3408
END:VEVENT

END:VCALENDAR
