BEGIN:VCALENDAR
VERSION:2.0
PRODID:-//ChamberMaster//Event Calendar 2.0//EN
METHOD:PUBLISH
X-PUBLISHED-TTL:P3D
REFRESH-INTERVAL:P3D
CALSCALE:GREGORIAN
BEGIN:VEVENT
DTSTART:20160514T230000Z
DTEND:20160515T020000Z
X-MICROSOFT-CDO-ALLDAYEVENT:FALSE
SUMMARY:Lake County Passion Play
DESCRIPTION:The Passion\, Death\, Resurrection and Ascension of our Lord\, Jesus Christ
X-ALT-DESC;FMTTYPE=text/html:<p><span style="font-size:14px\;">The Passion\, Death\, Resurrection and Ascension of our Lord\, Jesus Christ</span></p> 
LOCATION:7010 Westlake Road\, Upper Lake
UID:e.1531.3269
SEQUENCE:3
DTSTAMP:20260421T060116Z
URL:https://cmmembers.psaeger.com/events/details/lake-county-passion-play-05-14-2016-3269
END:VEVENT

END:VCALENDAR
