BEGIN:VCALENDAR
VERSION:2.0
PRODID:-//ChamberMaster//Event Calendar 2.0//EN
METHOD:PUBLISH
X-PUBLISHED-TTL:P3D
REFRESH-INTERVAL:P3D
CALSCALE:GREGORIAN
BEGIN:VEVENT
DTSTART:20160402T003000Z
DTEND:20160402T023000Z
X-MICROSOFT-CDO-ALLDAYEVENT:FALSE
SUMMARY:Lake County Fair Foundation Potty Party
DESCRIPTION:Lake County Fair Foundation a 501(c)3 non profit is having a fundraiser for the Lake County \n Fairgrounds on Friday\, April 1st\, 2016 at the Lake County Fairgrounds in Lewis Hall.    Free Admission.  Music\, Food and Fun.  This is a fundraiser to enhance the restrooms on the fairgrounds.    Pledges and donations welcome.  Become a member of the Lake County Fair Foundation!
X-ALT-DESC;FMTTYPE=text/html:<p>Lake County Fair Foundation a 501(c)3 non profit is having a fundraiser for the Lake County&nbsp\;<br /> Fairgrounds on Friday\, April 1st\, 2016 at the Lake County Fairgrounds in Lewis Hall. &nbsp\;</p>  <p>Free Admission.</p>  <p><span style="font-size: 12px\;">Music\, Food and Fun. &nbsp\;This is a fundraiser to enhance the restrooms on the fairgrounds. &nbsp\;</span></p>  <p>Pledges and donations welcome. &nbsp\;Become a member of the Lake County Fair Foundation!</p> 
LOCATION:401 Martin St\, Lakeport\, CA
UID:e.1531.3369
SEQUENCE:3
DTSTAMP:20260421T072955Z
URL:https://cmmembers.psaeger.com/events/details/lake-county-fair-foundation-potty-party-04-01-2016-3369
END:VEVENT

END:VCALENDAR
