BEGIN:VCALENDAR
VERSION:2.0
PRODID:-//ChamberMaster//Event Calendar 2.0//EN
METHOD:PUBLISH
X-PUBLISHED-TTL:P3D
REFRESH-INTERVAL:P3D
CALSCALE:GREGORIAN
BEGIN:VEVENT
DTSTART:20160917T000000Z
DTEND:20160917T030000Z
X-MICROSOFT-CDO-ALLDAYEVENT:FALSE
SUMMARY:Lake County Diamonds - Concert on the Green
DESCRIPTION:Concerts on the Green  Open to the Public 3rd Friday of the Month\n 5:00pm-8:00pm     September 16    Lake County Diamonds
X-ALT-DESC;FMTTYPE=text/html:<h1 style="text-align: center\;"><span style="color:#008000\;">Concerts on the Green</span></h1>  <p style="text-align: center\;"><span style="color:#008000\;">Open to the Public 3rd Friday of the Month<br /> 5:00pm-8:00pm</span></p>  <p>&nbsp\;</p>  <p style="text-align: center\;">September 16 &nbsp\;&nbsp\;&nbsp\;Lake County Diamonds</p> 
LOCATION:Hidden Valley Lake - Behind the Greenview Restaurant
UID:e.1531.3507
SEQUENCE:3
DTSTAMP:20260420T230800Z
URL:https://cmmembers.psaeger.com/events/details/lake-county-diamonds-concert-on-the-green-09-16-2016-3507
END:VEVENT

END:VCALENDAR
