BEGIN:VCALENDAR
VERSION:2.0
PRODID:-//ChamberMaster//Event Calendar 2.0//EN
METHOD:PUBLISH
X-PUBLISHED-TTL:P3D
REFRESH-INTERVAL:P3D
CALSCALE:GREGORIAN
BEGIN:VEVENT
DTSTART:20160722T020000Z
DTEND:20160722T050000Z
X-MICROSOFT-CDO-ALLDAYEVENT:FALSE
SUMMARY:Kickin' In The Country Street Dance
DESCRIPTION:SAVE THE DATE.
X-ALT-DESC;FMTTYPE=text/html:<p>SAVE THE DATE.</p> 
LOCATION:Main Street\, Kelseyville
UID:e.1531.3313
SEQUENCE:3
DTSTAMP:20260421T024020Z
URL:https://cmmembers.psaeger.com/events/details/kickin-in-the-country-street-dance-07-21-2016-3313
END:VEVENT

END:VCALENDAR
