BEGIN:VCALENDAR
VERSION:2.0
PRODID:-//ChamberMaster//Event Calendar 2.0//EN
METHOD:PUBLISH
X-PUBLISHED-TTL:P3D
REFRESH-INTERVAL:P3D
CALSCALE:GREGORIAN
BEGIN:VEVENT
DTSTART:20160313T173000Z
DTEND:20160313T220000Z
X-MICROSOFT-CDO-ALLDAYEVENT:FALSE
SUMMARY:Kent Stephenson at Blue Wing Sunday Brunch
DESCRIPTION:Enjoy a great brunch from 10:30 to 3:00 with live music inside or out in the garden in good weather from 11:30 to 2:00. Music today is by country singer/songwriter Kent Stephenson.
X-ALT-DESC;FMTTYPE=text/html:<p>Enjoy a great brunch from 10:30 to 3:00 with live music inside or out in the garden in good weather from 11:30 to 2:00. Music today is by country singer/songwriter Kent Stephenson.</p> 
LOCATION:Blue Wing Restaurant
UID:e.1531.3225
SEQUENCE:3
DTSTAMP:20260421T102358Z
URL:https://cmmembers.psaeger.com/events/details/kent-stephenson-at-blue-wing-sunday-brunch-03-13-2016-3225
END:VEVENT

END:VCALENDAR
