BEGIN:VCALENDAR
VERSION:2.0
PRODID:-//ChamberMaster//Event Calendar 2.0//EN
METHOD:PUBLISH
X-PUBLISHED-TTL:P3D
REFRESH-INTERVAL:P3D
CALSCALE:GREGORIAN
BEGIN:VEVENT
DTSTART:20160227T060000Z
DTEND:20160227T075900Z
X-MICROSOFT-CDO-ALLDAYEVENT:FALSE
SUMMARY:Karaoke
DESCRIPTION:Karaoke every Friday night starting at 10PM until 2AM.  Running Creek Casino. The place to play!
X-ALT-DESC;FMTTYPE=text/html:<p>Karaoke every Friday night starting at 10PM until 2AM.</p>  <p>Running Creek Casino. The place to play!</p> 
LOCATION:Running Creek Casino
UID:e.1531.3203
SEQUENCE:3
DTSTAMP:20260421T114709Z
URL:https://cmmembers.psaeger.com/events/details/karaoke-02-26-2016-3203
END:VEVENT

END:VCALENDAR
