BEGIN:VCALENDAR
VERSION:2.0
PRODID:-//ChamberMaster//Event Calendar 2.0//EN
METHOD:PUBLISH
X-PUBLISHED-TTL:P3D
REFRESH-INTERVAL:P3D
CALSCALE:GREGORIAN
BEGIN:VEVENT
DTSTART:20160404T010000Z
DTEND:20160404T030000Z
X-MICROSOFT-CDO-ALLDAYEVENT:FALSE
SUMMARY:Jeff Massanari at Blue Wing First Sunday Live
DESCRIPTION:Join "Majide\," the smooth combo of Paul Kemp on keys and Machiko Shimada on vocals\, for some pleasant  background music each Sunday evening.  On the first Sunday of the month they invite a special guest to jam with them and tonight's guest is the wonderful jazz guitarist JEFF MASSANARI.  An hour of this professionally produced program is broadcast on a delayed basis on the following Monday evening from 8:00 to 9:00 over the local station KNTI 99.5 FM and streams at www.KNTI.com.
X-ALT-DESC;FMTTYPE=text/html:<p>Join &quot\;Majide\,&quot\; the smooth combo of Paul Kemp on keys and Machiko Shimada on vocals\, for some pleasant&nbsp\; background music each Sunday evening.&nbsp\; On the first Sunday of the month they invite a special guest to jam with them and tonight&#39\;s guest is the wonderful jazz guitarist JEFF MASSANARI.&nbsp\; An hour of this professionally produced program is broadcast on a delayed basis on the following Monday evening from 8:00 to 9:00 over the local station KNTI 99.5 FM and streams at <a href="http://www.knti.com/">www.KNTI.com</a>.</p> 
LOCATION:Blue Wing Restaurant
UID:e.1531.3376
SEQUENCE:3
DTSTAMP:20260421T073146Z
URL:https://cmmembers.psaeger.com/events/details/jeff-massanari-at-blue-wing-first-sunday-live-04-03-2016-3376
END:VEVENT

END:VCALENDAR
