BEGIN:VCALENDAR
VERSION:2.0
PRODID:-//ChamberMaster//Event Calendar 2.0//EN
METHOD:PUBLISH
X-PUBLISHED-TTL:P3D
REFRESH-INTERVAL:P3D
CALSCALE:GREGORIAN
BEGIN:VEVENT
DTSTART:20160309T020000Z
DTEND:20160309T040000Z
X-MICROSOFT-CDO-ALLDAYEVENT:FALSE
SUMMARY:How to Set up a Neighborhood Watch
DESCRIPTION:For Anderson Springs\, Cobb\, Loch Lomond\, Middletown\, Hidden Valley Lake\, Spruce Grove Rd\,  Jersalem Valley  We are not victims of the Valley Fire\, we experienced a catastrophe.  We have all been affected.  Some lost more material things than others\, but the impact is personal and cannot be measured.  We are strong\, we need to unite.  It is important that we look out for one another in a way that keeps everyone safe and at the same time shows those who steal and vandalize that we will not tolerate this behavior in our neighborhoods by organizing teams to alert the authoriteis and when possible catch action on video.     	Learn how to organize a neighborhood watch from experienced personnel 	The dos and don'ts of patrolling presented by our Sheriff's Department and Local Highway Patrol personnel 	How to set up patrols in your area 	Effective sign placement 	Simple things you can do on your property to discourage theft   We need people that are willing to lead.  There is a lot of ground to cover and coverage needs to be broken down into manageble areas with a leader for each one.   Please attend and do your part - We need you!!!
X-ALT-DESC;FMTTYPE=text/html:<p style="text-align: center\;"><span style="font-size:16px\;"><span style="color: rgb(0\, 100\, 0)\;"><strong>For Anderson Springs\, Cobb\, Loch Lomond\, Middletown\, Hidden Valley Lake\, Spruce Grove Rd\, &nbsp\;Jersalem Valley</strong></span></span></p>  <p>We are not victims of the Valley Fire\, we experienced a catastrophe.&nbsp\; We have all been affected. &nbsp\;Some lost more material things than others\, but the impact is personal and cannot be measured.&nbsp\; <strong>We are strong\, we need to unite</strong>.</p>  <p>It is important that we look out for one another in a way that <strong>keeps everyone safe</strong> and at the same time <strong>shows those who steal and vandalize that we will not tolerate this behavior in our neighborhoods</strong> by organizing teams to alert the authoriteis and when possible catch action on video. &nbsp\;</p>  <ul> 	<li>Learn how to organize a neighborhood watch from experienced personnel</li> 	<li>The dos and don&#39\;ts of patrolling presented by our Sheriff&#39\;s Department and Local Highway Patrol personnel</li> 	<li>How to set up patrols in your area</li> 	<li>Effective sign placement</li> 	<li>Simple things you can do on your property to discourage theft</li> </ul>  <p><span style="color:#006400\;"><span style="font-size: 18px\;"><strong>We need people that are willing to lead. </strong></span></span><span style="color:#0000CD\;"><span style="font-size: 18px\;"><strong>&nbsp\;</strong></span></span>There is a lot of ground to cover and coverage needs to be broken down into manageble areas with a leader for each one.&nbsp\;</p>  <p><span style="font-size:14px\;"><strong>Please attend and do your part - We need you!!!</strong></span></p> 
LOCATION:Calpine Visitors Center
UID:e.1531.3357
SEQUENCE:3
DTSTAMP:20260421T091445Z
URL:https://cmmembers.psaeger.com/events/details/how-to-set-up-a-neighborhood-watch-03-08-2016-3357
END:VEVENT

END:VCALENDAR
