BEGIN:VCALENDAR
VERSION:2.0
PRODID:-//ChamberMaster//Event Calendar 2.0//EN
METHOD:PUBLISH
X-PUBLISHED-TTL:P3D
REFRESH-INTERVAL:P3D
CALSCALE:GREGORIAN
BEGIN:VEVENT
DTSTART:20160607T013000Z
DTEND:20160607T040000Z
X-MICROSOFT-CDO-ALLDAYEVENT:FALSE
SUMMARY:Hip Replacements at Blue Wing Monday Blues
DESCRIPTION:Local\, Bay Area and touring blues bands perform at the Blue Wing at dinner time each Monday evening. It's great food in a lively and danceable atmosphere. There's no cover but reservations are suggested\, either inside or out on our heated veranda. Tonight we feature the popular local band the Hip Replacements led by Jim Williams on guitar and vocals.
X-ALT-DESC;FMTTYPE=text/html:<p>Local\, Bay Area and touring blues bands perform at the Blue Wing at dinner time each Monday evening. It&#39\;s great food in a lively and danceable atmosphere. There&#39\;s no cover but reservations are suggested\, either inside or out on our heated veranda. Tonight we feature the popular local band the Hip Replacements led by Jim Williams on guitar and vocals.</p> 
LOCATION:Blue Wing Restaurant
UID:e.1531.3415
SEQUENCE:3
DTSTAMP:20260421T042832Z
URL:https://cmmembers.psaeger.com/events/details/hip-replacements-at-blue-wing-monday-blues-06-06-2016-3415
END:VEVENT

END:VCALENDAR
