BEGIN:VCALENDAR
VERSION:2.0
PRODID:-//ChamberMaster//Event Calendar 2.0//EN
METHOD:PUBLISH
X-PUBLISHED-TTL:P3D
REFRESH-INTERVAL:P3D
CALSCALE:GREGORIAN
BEGIN:VEVENT
DTSTART:20170424T173000Z
DTEND:20170424T220000Z
X-MICROSOFT-CDO-ALLDAYEVENT:FALSE
SUMMARY:Hilarie & Milt at Blue Wing Sunday Brunch
DESCRIPTION:Enjoy a great brunch from 10:30 to 3:00 with live music inside or out in the garden in good weather from 11:30 to 2:00. Music today is by the local country duo of Hilarie Wilt and Milton Brown.
X-ALT-DESC;FMTTYPE=text/html:<p>Enjoy a great brunch from 10:30 to 3:00 with live music inside or out in the garden in good weather from 11:30 to 2:00. Music today is by the local country duo of Hilarie Wilt and Milton Brown.</p>\n
LOCATION:Blue Wing Restaurant
UID:e.1531.3388
SEQUENCE:3
DTSTAMP:20260420T113658Z
URL:https://cmmembers.psaeger.com/events/details/hilarie-milt-at-blue-wing-sunday-brunch-04-24-2016-3388
END:VEVENT

END:VCALENDAR
