BEGIN:VCALENDAR
VERSION:2.0
PRODID:-//ChamberMaster//Event Calendar 2.0//EN
METHOD:PUBLISH
X-PUBLISHED-TTL:P3D
REFRESH-INTERVAL:P3D
CALSCALE:GREGORIAN
BEGIN:VEVENT
DTSTART:20160626T173000Z
DTEND:20160626T220000Z
X-MICROSOFT-CDO-ALLDAYEVENT:FALSE
SUMMARY:Gill Brothers at Blue Wing Sunday Brunch
DESCRIPTION:Enjoy a great brunch from 10:30 to 3:00 with live music inside or out in the garden in good weather from 11:30 to 2:00. Music today is by the young brouther duo of Jake and Connor Gill.
X-ALT-DESC;FMTTYPE=text/html:<p>Enjoy a great brunch from 10:30 to 3:00 with live music inside or out in the garden in good weather from 11:30 to 2:00. Music today is by the young brouther duo of Jake and Connor Gill.</p> 
LOCATION:Blue Wing Restaurant
UID:e.1531.3427
SEQUENCE:3
DTSTAMP:20260421T042947Z
URL:https://cmmembers.psaeger.com/events/details/gill-brothers-at-blue-wing-sunday-brunch-06-26-2016-3427
END:VEVENT

END:VCALENDAR
