BEGIN:VCALENDAR
VERSION:2.0
PRODID:-//ChamberMaster//Event Calendar 2.0//EN
METHOD:PUBLISH
X-PUBLISHED-TTL:P3D
REFRESH-INTERVAL:P3D
CALSCALE:GREGORIAN
BEGIN:VEVENT
DTSTART:20160419T153000Z
DTEND:20160419T193000Z
X-MICROSOFT-CDO-ALLDAYEVENT:FALSE
SUMMARY:Free Training for Alcohol Beverage Servers
DESCRIPTION:LEAD Class: April 19\, 2016 8:30 AM to 12:30 PM  Konocti Vista Casino - 2788 Mission Rancheria Rd\, Lakeport     The Licensee Education on Alcohol and Drugs (LEAD) Program is a free\, voluntary prevention and education program for retail licensees\, their employees and applicants. The curriculum is designed for licensees\, managers and employees. Program length is 4 hours. Participation is limited depending on the size of the training location.  BENEFITS OF TRAINING   	Reduces risk of liability\, including criminal (court action)\, civil (lawsuit) and administrative (ABC accusation). 	Possible reduced insurance premiums 	Provides ways to deal with difficult situations   Class Requirements:   	Must be on time (Late arrivals will not be admitted) 	Must be present the duration of entire training (4 hours) 	No cell phone use during class 	Bring your confirmation number or copy of confirmation email 	Bring a pen or pencil and notepad 	Must pass written exam to receive certificate of completion (written exam is offered in English) 	Bring your own interpreter if needed   You will need to signup no later than 24 hours prior to the start of the class.  Register
X-ALT-DESC;FMTTYPE=text/html:<h3 style="text-align: center\;"><span style="font-size:14px\;"><span style="color: rgb(165\, 42\, 42)\;"><span style="font-size:18px\;">LEAD Class: April 19\, 2016 8:30 AM to 12:30 PM</span></span></span></h3>  <h3 style="text-align: center\;"><span style="font-size:14px\;"><span style="color: rgb(165\, 42\, 42)\;">Konocti Vista Casino - 2788 Mission Rancheria Rd\, Lakeport</span></span></h3>  <p>&nbsp\;</p>  <p><span style="font-size:14px\;">The Licensee Education on Alcohol and Drugs (LEAD) Program is a free\, voluntary prevention and education program for retail licensees\, their employees and applicants. The curriculum is designed for licensees\, managers and employees. Program length is 4 hours. Participation is limited depending on the size of the training location.</span></p>  <h2><span style="color:#A52A2A\;">BENEFITS OF TRAINING</span></h2>  <ol> 	<li>Reduces risk of liability\, including criminal (court action)\, civil (lawsuit) and administrative (ABC accusation).</li> 	<li>Possible reduced insurance premiums</li> 	<li>Provides ways to deal with difficult situations</li> </ol>  <p>Class Requirements:</p>  <ul> 	<li>Must be on time (Late arrivals will not be admitted)</li> 	<li>Must be present the duration of entire training (4 hours)</li> 	<li>No cell phone use during class</li> 	<li>Bring your confirmation number or copy of confirmation email</li> 	<li>Bring a pen or pencil and notepad</li> 	<li>Must pass written exam to receive certificate of completion (written exam is offered in English)</li> 	<li>Bring your own interpreter if needed</li> </ul>  <p>You will need to signup no later than 24 hours prior to the start of the class.</p>  <h1 style="text-align: center\;"><a href="https://www.tracelead.abc.ca.gov/traceleadpublic/Default.aspx?PossePresentation=LEADInfo&amp\;PosseObjectId=112348193"><span style="color:#A52A2A\;"><span style="font-size: 22px\;">Register</span></span></a></h1> 
LOCATION:Konocti Vista Casino 2788 Mission Rancheria Rd\, Lakeport
UID:e.1531.3497
SEQUENCE:3
DTSTAMP:20260421T074326Z
URL:https://cmmembers.psaeger.com/events/details/free-training-for-alcohol-beverage-servers-04-19-2016-3497
END:VEVENT

END:VCALENDAR
