BEGIN:VCALENDAR
VERSION:2.0
PRODID:-//ChamberMaster//Event Calendar 2.0//EN
METHOD:PUBLISH
X-PUBLISHED-TTL:P3D
REFRESH-INTERVAL:P3D
CALSCALE:GREGORIAN
BEGIN:VEVENT
DTSTART:20160223T210000Z
DTEND:20160224T000000Z
X-MICROSOFT-CDO-ALLDAYEVENT:FALSE
SUMMARY:February Job Fair
DESCRIPTION:February 23\, 2016 Job Fair  Twin Pine Casino from 1:00 to 4:00 pm  22223 CA-29  Middletown\, CA 95461  707-530-2334  Employers can register at survey monkey:   https://www.surveymonkey.com/r/tpjobfairfeb
X-ALT-DESC;FMTTYPE=text/html:<h1>February 23\, 2016 Job Fair</h1>  <p>Twin Pine Casino from 1:00 to 4:00 pm</p>  <p>22223 CA-29</p>  <p>Middletown\, CA 95461</p>  <p>707-530-2334</p>  <p><span style="font-size:20px\;"><a href="https://www.surveymonkey.com/r/tpjobfairfeb"><strong>Employers can register</strong></a></span> at survey monkey:&nbsp\;</p>  <p>https://www.surveymonkey.com/r/tpjobfairfeb</p> 
LOCATION:Middletown
UID:e.1531.3199
SEQUENCE:3
DTSTAMP:20260421T102107Z
URL:https://cmmembers.psaeger.com/events/details/february-job-fair-02-23-2016-3199
END:VEVENT

END:VCALENDAR
