BEGIN:VCALENDAR
VERSION:2.0
PRODID:-//ChamberMaster//Event Calendar 2.0//EN
METHOD:PUBLISH
X-PUBLISHED-TTL:P3D
REFRESH-INTERVAL:P3D
CALSCALE:GREGORIAN
BEGIN:VEVENT
DTSTART:20161002T170000Z
DTEND:20161002T230000Z
X-MICROSOFT-CDO-ALLDAYEVENT:FALSE
SUMMARY:Falling Leaves Quilt Show
DESCRIPTION:SAVE THE DATE
X-ALT-DESC;FMTTYPE=text/html:<p>SAVE THE DATE</p> 
LOCATION:Lake County Fairgrounds
UID:e.1531.3333
SEQUENCE:3
DTSTAMP:20260420T221625Z
URL:https://cmmembers.psaeger.com/events/details/falling-leaves-quilt-show-10-02-2016-3333
END:VEVENT

END:VCALENDAR
