BEGIN:VCALENDAR
VERSION:2.0
PRODID:-//ChamberMaster//Event Calendar 2.0//EN
METHOD:PUBLISH
X-PUBLISHED-TTL:P3D
REFRESH-INTERVAL:P3D
CALSCALE:GREGORIAN
BEGIN:VEVENT
DTSTART:20160409T133000Z
DTEND:20160409T070000Z
X-MICROSOFT-CDO-ALLDAYEVENT:FALSE
SUMMARY:Exhibit Launch and Murder Mystery
DESCRIPTION:The Friends of the Lake County Museum are hosting a murder mystery dinner at the Historic Courthouse Museum on Saturday\, April 9\, to kick off the opening of the museum exhibit "Crime and Punishment in Lake County."\n \n Doors open at 6 p.m. and guests will be the first to view the new exhibit before the show starts at 6:30 p.m. in the courtroom upstairs.\n \n There isn't a more appropriate venue for a mystery dinner than the historic courtroom\, where for nearly 100 years murderers and thieves in Lake County were brought to justice.\n \n Produced by Murder Us Productions\, the mystery portion of the evening is set in 1890s Lake County and guests are encouraged to dress in Victorian-style costumes to fit the theme.\n \n A three...-course catered dinner and refreshments will round out the evening.\n \n Tickets are $65 per person and $60 for members of the Friends of the Lake County Museum.\n \n To buy tickets to this great event\, stop by the Historic Courthouse Museum in Lakeport\, open Wednesday through Saturday\, 10 a.m. to 4 p.m.\, and Sunday\, noon to 4 p.m.\, at 255 N. Main St. Lakeport\; or call the museum at 707-263-4555.\n \n Seating is limited so don't wait until the last minute.     https://www.facebook.com/events/622776164526932/
X-ALT-DESC;FMTTYPE=text/html:<div class="text_exposed_root text_exposed" id="id_56bfb0b1777488228241129"><span class="fsl">The Friends of the Lake County Museum are hosting a murder mystery dinner at the Historic Courthouse Museum on Saturday\, April 9\, to kick off the opening of the museum exhibit &ldquo\;Crime and Punishment in Lake County.&rdquo\;<br /> <br /> Doors open at 6 p.m. and guests will be the first to view the new exhibit before the show starts at 6:30 p.m. in the courtroom upstairs.<br /> <br /> There isn&rsquo\;t a more appropriate venue for a mystery dinner than the historic courtroom\, where for nearly 100 years murderers and thieves in Lake County were brought to justice.<br /> <br /> Produced by Murder Us Productions\, the mystery portion of the evening is set in 1890s Lake County and guests are encouraged to dress in Victorian-style costumes to fit the theme.<br /> <br /> A three<span class="text_exposed_hide">...</span><span class="text_exposed_show">-course catered dinner and refreshments will round out the evening.<br /> <br /> Tickets are $65 per person and $60 for members of the Friends of the Lake County Museum.<br /> <br /> To buy tickets to this great event\, stop by the Historic Courthouse Museum in Lakeport\, open Wednesday through Saturday\, 10 a.m. to 4 p.m.\, and Sunday\, noon to 4 p.m.\, at 255 N. Main St. Lakeport\; or call the museum at 707-263-4555.<br /> <br /> Seating is limited so don&rsquo\;t wait until the last minute.</span></span></div>  <p>&nbsp\;</p>  <p><a href="https://www.facebook.com/events/622776164526932/">https://www.facebook.com/events/622776164526932/</a></p> 
LOCATION:Historic Courthouse Museum
UID:e.1531.3344
SEQUENCE:3
DTSTAMP:20260421T085948Z
URL:https://cmmembers.psaeger.com/events/details/exhibit-launch-and-murder-mystery-04-09-2016-3344
END:VEVENT

END:VCALENDAR
