BEGIN:VCALENDAR
VERSION:2.0
PRODID:-//ChamberMaster//Event Calendar 2.0//EN
METHOD:PUBLISH
X-PUBLISHED-TTL:P3D
REFRESH-INTERVAL:P3D
CALSCALE:GREGORIAN
BEGIN:VEVENT
DTSTART;VALUE=DATE:20180314
DTEND;VALUE=DATE:20180315
TRANSP:TRANSPARENT
X-MICROSOFT-CDO-ALLDAYEVENT:TRUE
SUMMARY:Every Other Wednesday
DESCRIPTION:Every Other Wednesday
X-ALT-DESC;FMTTYPE=text/html:Every Other Wednesday
LOCATION:
UID:e.1531.1599
SEQUENCE:3
DTSTAMP:20260419T175927Z
URL:https://cmmembers.psaeger.com/events/details/every-other-wednesday-03-14-2018-1599
END:VEVENT

END:VCALENDAR
